BEGIN:VCALENDAR
VERSION:2.0
PRODID:-//Ev.-Luth. Kirchengemeinde Kellinghusen - ECPv6.15.20//NONSGML v1.0//EN
CALSCALE:GREGORIAN
METHOD:PUBLISH
X-WR-CALNAME:Ev.-Luth. Kirchengemeinde Kellinghusen
X-ORIGINAL-URL:https://kirche-kellinghusen.de
X-WR-CALDESC:Veranstaltungen für Ev.-Luth. Kirchengemeinde Kellinghusen
REFRESH-INTERVAL;VALUE=DURATION:PT1H
X-Robots-Tag:noindex
X-PUBLISHED-TTL:PT1H
BEGIN:VTIMEZONE
TZID:Europe/Berlin
BEGIN:DAYLIGHT
TZOFFSETFROM:+0100
TZOFFSETTO:+0200
TZNAME:CEST
DTSTART:20250330T010000
END:DAYLIGHT
BEGIN:STANDARD
TZOFFSETFROM:+0200
TZOFFSETTO:+0100
TZNAME:CET
DTSTART:20251026T010000
END:STANDARD
BEGIN:DAYLIGHT
TZOFFSETFROM:+0100
TZOFFSETTO:+0200
TZNAME:CEST
DTSTART:20260329T010000
END:DAYLIGHT
BEGIN:STANDARD
TZOFFSETFROM:+0200
TZOFFSETTO:+0100
TZNAME:CET
DTSTART:20261025T010000
END:STANDARD
BEGIN:DAYLIGHT
TZOFFSETFROM:+0100
TZOFFSETTO:+0200
TZNAME:CEST
DTSTART:20270328T010000
END:DAYLIGHT
BEGIN:STANDARD
TZOFFSETFROM:+0200
TZOFFSETTO:+0100
TZNAME:CET
DTSTART:20271031T010000
END:STANDARD
END:VTIMEZONE
BEGIN:VEVENT
DTSTART;TZID=Europe/Berlin:20260421T163000
DTEND;TZID=Europe/Berlin:20260421T163000
DTSTAMP:20260421T104711
CREATED:20260304T095804Z
LAST-MODIFIED:20260304T095804Z
UID:8741-1776789000-1776789000@kirche-kellinghusen.de
SUMMARY:K.I.B.A. Regenbogen (5 Jahre bis 4. Klasse)
DESCRIPTION:
URL:https://kirche-kellinghusen.de/veranstaltung/k-i-b-a-regenbogen-5-jahre-bis-4-klasse-16/
CATEGORIES:Regelmäßige Angebote
END:VEVENT
BEGIN:VEVENT
DTSTART;TZID=Europe/Berlin:20260421T193000
DTEND;TZID=Europe/Berlin:20260421T193000
DTSTAMP:20260421T104711
CREATED:20260304T095944Z
LAST-MODIFIED:20260304T095944Z
UID:8798-1776799800-1776799800@kirche-kellinghusen.de
SUMMARY:Pro Gospel
DESCRIPTION:
URL:https://kirche-kellinghusen.de/veranstaltung/pro-gospel-16/
LOCATION:Gemeindehaus Kellinghusen\, Lindenstraße 2\, Kellinghusen\, 25548
CATEGORIES:Regelmäßige Angebote
END:VEVENT
END:VCALENDAR