BEGIN:VCALENDAR
VERSION:2.0
PRODID:-//Ev.-Luth. Kirchengemeinde Kellinghusen - ECPv6.15.20//NONSGML v1.0//EN
CALSCALE:GREGORIAN
METHOD:PUBLISH
X-WR-CALNAME:Ev.-Luth. Kirchengemeinde Kellinghusen
X-ORIGINAL-URL:https://kirche-kellinghusen.de
X-WR-CALDESC:Veranstaltungen für Ev.-Luth. Kirchengemeinde Kellinghusen
REFRESH-INTERVAL;VALUE=DURATION:PT1H
X-Robots-Tag:noindex
X-PUBLISHED-TTL:PT1H
BEGIN:VTIMEZONE
TZID:Europe/Berlin
BEGIN:DAYLIGHT
TZOFFSETFROM:+0100
TZOFFSETTO:+0200
TZNAME:CEST
DTSTART:20250330T010000
END:DAYLIGHT
BEGIN:STANDARD
TZOFFSETFROM:+0200
TZOFFSETTO:+0100
TZNAME:CET
DTSTART:20251026T010000
END:STANDARD
BEGIN:DAYLIGHT
TZOFFSETFROM:+0100
TZOFFSETTO:+0200
TZNAME:CEST
DTSTART:20260329T010000
END:DAYLIGHT
BEGIN:STANDARD
TZOFFSETFROM:+0200
TZOFFSETTO:+0100
TZNAME:CET
DTSTART:20261025T010000
END:STANDARD
BEGIN:DAYLIGHT
TZOFFSETFROM:+0100
TZOFFSETTO:+0200
TZNAME:CEST
DTSTART:20270328T010000
END:DAYLIGHT
BEGIN:STANDARD
TZOFFSETFROM:+0200
TZOFFSETTO:+0100
TZNAME:CET
DTSTART:20271031T010000
END:STANDARD
END:VTIMEZONE
BEGIN:VTIMEZONE
TZID:UTC
BEGIN:STANDARD
TZOFFSETFROM:+0000
TZOFFSETTO:+0000
TZNAME:UTC
DTSTART:20250101T000000
END:STANDARD
END:VTIMEZONE
BEGIN:VEVENT
DTSTART;TZID=Europe/Berlin:20260730T193000
DTEND;TZID=Europe/Berlin:20260730T193000
DTSTAMP:20260419T174538
CREATED:20260304T101553Z
LAST-MODIFIED:20260304T101553Z
UID:8992-1785439800-1785439800@kirche-kellinghusen.de
SUMMARY:Kantorei
DESCRIPTION:
URL:https://kirche-kellinghusen.de/veranstaltung/kantorei-31/
CATEGORIES:Regelmäßige Angebote
END:VEVENT
BEGIN:VEVENT
DTSTART;TZID=Europe/Berlin:20260802T110000
DTEND;TZID=Europe/Berlin:20260802T110000
DTSTAMP:20260419T174538
CREATED:20260109T161908Z
LAST-MODIFIED:20260122T110937Z
UID:8362-1785668400-1785668400@kirche-kellinghusen.de
SUMMARY:9. Sonntag nach Trinitatis
DESCRIPTION:
URL:https://kirche-kellinghusen.de/veranstaltung/9-sonntag-nach-trinitatis/
LOCATION:St. Cyriacus Kirche Kellinghusen\, Lindenstraße 2\, Kellinghusen\, 25548
CATEGORIES:Gottesdienst Kellinghusen
END:VEVENT
BEGIN:VEVENT
DTSTART;TZID=Europe/Berlin:20260803T150000
DTEND;TZID=Europe/Berlin:20260803T150000
DTSTAMP:20260419T174538
CREATED:20260304T095451Z
LAST-MODIFIED:20260304T095451Z
UID:8664-1785769200-1785769200@kirche-kellinghusen.de
SUMMARY:Begegnungsnachmittag
DESCRIPTION:
URL:https://kirche-kellinghusen.de/veranstaltung/begegnungsnachmittag-8/
CATEGORIES:Regelmäßige Angebote
END:VEVENT
BEGIN:VEVENT
DTSTART;TZID=Europe/Berlin:20260803T173000
DTEND;TZID=Europe/Berlin:20260803T173000
DTSTAMP:20260419T174538
CREATED:20260304T095708Z
LAST-MODIFIED:20260304T095708Z
UID:8704-1785778200-1785778200@kirche-kellinghusen.de
SUMMARY:Posaunenchor Hennstedt/Poyenberg mit Jungbläsern
DESCRIPTION:
URL:https://kirche-kellinghusen.de/veranstaltung/posaunenchor-hennstedt-poyenberg-mit-jungblaesern-32/
LOCATION:Gemeindehaus Hennstedt
CATEGORIES:Regelmäßige Angebote
END:VEVENT
BEGIN:VEVENT
DTSTART;TZID=Europe/Berlin:20260804T163000
DTEND;TZID=Europe/Berlin:20260804T163000
DTSTAMP:20260419T174538
CREATED:20260304T095819Z
LAST-MODIFIED:20260304T095819Z
UID:8756-1785861000-1785861000@kirche-kellinghusen.de
SUMMARY:K.I.B.A. Regenbogen (5 Jahre bis 4. Klasse)
DESCRIPTION:
URL:https://kirche-kellinghusen.de/veranstaltung/k-i-b-a-regenbogen-5-jahre-bis-4-klasse-31/
CATEGORIES:Regelmäßige Angebote
END:VEVENT
BEGIN:VEVENT
DTSTART;TZID=Europe/Berlin:20260804T193000
DTEND;TZID=Europe/Berlin:20260804T193000
DTSTAMP:20260419T174538
CREATED:20260304T100008Z
LAST-MODIFIED:20260304T100008Z
UID:8813-1785871800-1785871800@kirche-kellinghusen.de
SUMMARY:Pro Gospel
DESCRIPTION:
URL:https://kirche-kellinghusen.de/veranstaltung/pro-gospel-31/
LOCATION:Gemeindehaus Kellinghusen\, Lindenstraße 2\, Kellinghusen\, 25548
CATEGORIES:Regelmäßige Angebote
END:VEVENT
BEGIN:VEVENT
DTSTART;TZID=Europe/Berlin:20260805T193000
DTEND;TZID=Europe/Berlin:20260805T193000
DTSTAMP:20260419T174538
CREATED:20260304T100229Z
LAST-MODIFIED:20260304T100229Z
UID:8868-1785958200-1785958200@kirche-kellinghusen.de
SUMMARY:Kirchenchor Hennstedt
DESCRIPTION:
URL:https://kirche-kellinghusen.de/veranstaltung/kirchenchor-hennstedt-31/
LOCATION:Gemeindehaus Hennstedt
CATEGORIES:Regelmäßige Angebote
END:VEVENT
BEGIN:VEVENT
DTSTART;TZID=Europe/Berlin:20260806T193000
DTEND;TZID=Europe/Berlin:20260806T193000
DTSTAMP:20260419T174538
CREATED:20260304T101555Z
LAST-MODIFIED:20260304T101555Z
UID:8993-1786044600-1786044600@kirche-kellinghusen.de
SUMMARY:Kantorei
DESCRIPTION:
URL:https://kirche-kellinghusen.de/veranstaltung/kantorei-32/
CATEGORIES:Regelmäßige Angebote
END:VEVENT
BEGIN:VEVENT
DTSTART;TZID=Europe/Berlin:20260807T183000
DTEND;TZID=Europe/Berlin:20260807T183000
DTSTAMP:20260419T174538
CREATED:20260304T101723Z
LAST-MODIFIED:20260304T101723Z
UID:9025-1786127400-1786127400@kirche-kellinghusen.de
SUMMARY:Jugendgruppe K.A.Te.Bi
DESCRIPTION:
URL:https://kirche-kellinghusen.de/veranstaltung/jugendgruppe-k-a-te-bi-8/
CATEGORIES:Regelmäßige Angebote
END:VEVENT
BEGIN:VEVENT
DTSTART;TZID=Europe/Berlin:20260809T093000
DTEND;TZID=Europe/Berlin:20260809T093000
DTSTAMP:20260419T174538
CREATED:20260109T161908Z
LAST-MODIFIED:20260122T110937Z
UID:8363-1786267800-1786267800@kirche-kellinghusen.de
SUMMARY:10. Sonntag nach Trinitatis \n                (oder violett)
DESCRIPTION:
URL:https://kirche-kellinghusen.de/veranstaltung/10-sonntag-nach-trinitatis-oder-violett/
LOCATION:Christuskirche Hennstedt\, Schulstraße 12\, Hennstedt\, 25581
CATEGORIES:Gottesdienst Hennstedt
END:VEVENT
BEGIN:VEVENT
DTSTART;TZID=Europe/Berlin:20260809T110000
DTEND;TZID=Europe/Berlin:20260809T110000
DTSTAMP:20260419T174538
CREATED:20260109T161921Z
LAST-MODIFIED:20260122T110938Z
UID:8364-1786273200-1786273200@kirche-kellinghusen.de
SUMMARY:10. Sonntag nach Trinitatis \n                (oder violett)
DESCRIPTION:
URL:https://kirche-kellinghusen.de/veranstaltung/10-sonntag-nach-trinitatis-oder-violett-2/
LOCATION:Kirche zu Breitenberg\, Kirchenstraße 16-22\, Breitenberg\, 25597
CATEGORIES:Gottesdienst Breitenberg
END:VEVENT
BEGIN:VEVENT
DTSTART;TZID=Europe/Berlin:20260810T173000
DTEND;TZID=Europe/Berlin:20260810T173000
DTSTAMP:20260419T174538
CREATED:20260304T095708Z
LAST-MODIFIED:20260304T095708Z
UID:8705-1786383000-1786383000@kirche-kellinghusen.de
SUMMARY:Posaunenchor Hennstedt/Poyenberg mit Jungbläsern
DESCRIPTION:
URL:https://kirche-kellinghusen.de/veranstaltung/posaunenchor-hennstedt-poyenberg-mit-jungblaesern-33/
LOCATION:Gemeindehaus Hennstedt
CATEGORIES:Regelmäßige Angebote
END:VEVENT
BEGIN:VEVENT
DTSTART;TZID=Europe/Berlin:20260811T163000
DTEND;TZID=Europe/Berlin:20260811T163000
DTSTAMP:20260419T174538
CREATED:20260304T095824Z
LAST-MODIFIED:20260304T095824Z
UID:8757-1786465800-1786465800@kirche-kellinghusen.de
SUMMARY:K.I.B.A. Regenbogen (5 Jahre bis 4. Klasse)
DESCRIPTION:
URL:https://kirche-kellinghusen.de/veranstaltung/k-i-b-a-regenbogen-5-jahre-bis-4-klasse-32/
CATEGORIES:Regelmäßige Angebote
END:VEVENT
BEGIN:VEVENT
DTSTART;TZID=Europe/Berlin:20260811T193000
DTEND;TZID=Europe/Berlin:20260811T193000
DTSTAMP:20260419T174538
CREATED:20260304T100011Z
LAST-MODIFIED:20260304T100011Z
UID:8814-1786476600-1786476600@kirche-kellinghusen.de
SUMMARY:Pro Gospel
DESCRIPTION:
URL:https://kirche-kellinghusen.de/veranstaltung/pro-gospel-32/
LOCATION:Gemeindehaus Kellinghusen\, Lindenstraße 2\, Kellinghusen\, 25548
CATEGORIES:Regelmäßige Angebote
END:VEVENT
BEGIN:VEVENT
DTSTART;TZID=Europe/Berlin:20260812T153000
DTEND;TZID=Europe/Berlin:20260812T153000
DTSTAMP:20260419T174538
CREATED:20260304T100732Z
LAST-MODIFIED:20260304T100732Z
UID:8928-1786548600-1786548600@kirche-kellinghusen.de
SUMMARY:Eltern- und Kinderchor
DESCRIPTION:
URL:https://kirche-kellinghusen.de/veranstaltung/eltern-und-kinderchor-15/
LOCATION:Gemeindehaus Kellinghusen\, Lindenstraße 2\, Kellinghusen\, 25548
CATEGORIES:Regelmäßige Angebote
END:VEVENT
BEGIN:VEVENT
DTSTART;TZID=Europe/Berlin:20260812T173000
DTEND;TZID=Europe/Berlin:20260812T173000
DTSTAMP:20260419T174538
CREATED:20260304T101154Z
LAST-MODIFIED:20260304T101154Z
UID:8952-1786555800-1786555800@kirche-kellinghusen.de
SUMMARY:Basic – die Jugendgruppe
DESCRIPTION:
URL:https://kirche-kellinghusen.de/veranstaltung/basic-die-jugendgruppe-15/
CATEGORIES:Regelmäßige Angebote
END:VEVENT
BEGIN:VEVENT
DTSTART;TZID=Europe/Berlin:20260812T193000
DTEND;TZID=Europe/Berlin:20260812T193000
DTSTAMP:20260419T174538
CREATED:20260304T100229Z
LAST-MODIFIED:20260304T100229Z
UID:8869-1786563000-1786563000@kirche-kellinghusen.de
SUMMARY:Kirchenchor Hennstedt
DESCRIPTION:
URL:https://kirche-kellinghusen.de/veranstaltung/kirchenchor-hennstedt-32/
LOCATION:Gemeindehaus Hennstedt
CATEGORIES:Regelmäßige Angebote
END:VEVENT
BEGIN:VEVENT
DTSTART;TZID=Europe/Berlin:20260812T193000
DTEND;TZID=Europe/Berlin:20260812T193000
DTSTAMP:20260419T174538
CREATED:20260304T100428Z
LAST-MODIFIED:20260304T100428Z
UID:8904-1786563000-1786563000@kirche-kellinghusen.de
SUMMARY:Sing along
DESCRIPTION:
URL:https://kirche-kellinghusen.de/veranstaltung/sing-along-15/
CATEGORIES:Regelmäßige Angebote
END:VEVENT
BEGIN:VEVENT
DTSTART;TZID=Europe/Berlin:20260813T193000
DTEND;TZID=Europe/Berlin:20260813T193000
DTSTAMP:20260419T174538
CREATED:20260304T101555Z
LAST-MODIFIED:20260304T101555Z
UID:8994-1786649400-1786649400@kirche-kellinghusen.de
SUMMARY:Kantorei
DESCRIPTION:
URL:https://kirche-kellinghusen.de/veranstaltung/kantorei-33/
CATEGORIES:Regelmäßige Angebote
END:VEVENT
BEGIN:VEVENT
DTSTART;TZID=Europe/Berlin:20260816T110000
DTEND;TZID=Europe/Berlin:20260816T110000
DTSTAMP:20260419T174538
CREATED:20260109T161921Z
LAST-MODIFIED:20260122T110938Z
UID:8365-1786878000-1786878000@kirche-kellinghusen.de
SUMMARY:11. Sonntag nach Trinitatis
DESCRIPTION:
URL:https://kirche-kellinghusen.de/veranstaltung/11-sonntag-nach-trinitatis/
LOCATION:St. Cyriacus Kirche Kellinghusen\, Lindenstraße 2\, Kellinghusen\, 25548
CATEGORIES:Gottesdienst Kellinghusen
END:VEVENT
BEGIN:VEVENT
DTSTART;TZID=Europe/Berlin:20260817T173000
DTEND;TZID=Europe/Berlin:20260817T173000
DTSTAMP:20260419T174538
CREATED:20260304T095708Z
LAST-MODIFIED:20260304T095708Z
UID:8706-1786987800-1786987800@kirche-kellinghusen.de
SUMMARY:Posaunenchor Hennstedt/Poyenberg mit Jungbläsern
DESCRIPTION:
URL:https://kirche-kellinghusen.de/veranstaltung/posaunenchor-hennstedt-poyenberg-mit-jungblaesern-34/
LOCATION:Gemeindehaus Hennstedt
CATEGORIES:Regelmäßige Angebote
END:VEVENT
BEGIN:VEVENT
DTSTART;TZID=Europe/Berlin:20260818T163000
DTEND;TZID=Europe/Berlin:20260818T163000
DTSTAMP:20260419T174538
CREATED:20260304T095825Z
LAST-MODIFIED:20260304T095825Z
UID:8758-1787070600-1787070600@kirche-kellinghusen.de
SUMMARY:K.I.B.A. Regenbogen (5 Jahre bis 4. Klasse)
DESCRIPTION:
URL:https://kirche-kellinghusen.de/veranstaltung/k-i-b-a-regenbogen-5-jahre-bis-4-klasse-33/
CATEGORIES:Regelmäßige Angebote
END:VEVENT
BEGIN:VEVENT
DTSTART;TZID=Europe/Berlin:20260818T193000
DTEND;TZID=Europe/Berlin:20260818T193000
DTSTAMP:20260419T174538
CREATED:20260304T100012Z
LAST-MODIFIED:20260304T100012Z
UID:8815-1787081400-1787081400@kirche-kellinghusen.de
SUMMARY:Pro Gospel
DESCRIPTION:
URL:https://kirche-kellinghusen.de/veranstaltung/pro-gospel-33/
LOCATION:Gemeindehaus Kellinghusen\, Lindenstraße 2\, Kellinghusen\, 25548
CATEGORIES:Regelmäßige Angebote
END:VEVENT
BEGIN:VEVENT
DTSTART;TZID=Europe/Berlin:20260819T193000
DTEND;TZID=Europe/Berlin:20260819T193000
DTSTAMP:20260419T174538
CREATED:20260304T100229Z
LAST-MODIFIED:20260304T100229Z
UID:8870-1787167800-1787167800@kirche-kellinghusen.de
SUMMARY:Kirchenchor Hennstedt
DESCRIPTION:
URL:https://kirche-kellinghusen.de/veranstaltung/kirchenchor-hennstedt-33/
LOCATION:Gemeindehaus Hennstedt
CATEGORIES:Regelmäßige Angebote
END:VEVENT
BEGIN:VEVENT
DTSTART;TZID=Europe/Berlin:20260820T193000
DTEND;TZID=Europe/Berlin:20260820T193000
DTSTAMP:20260419T174538
CREATED:20260304T101555Z
LAST-MODIFIED:20260304T101555Z
UID:8995-1787254200-1787254200@kirche-kellinghusen.de
SUMMARY:Kantorei
DESCRIPTION:
URL:https://kirche-kellinghusen.de/veranstaltung/kantorei-34/
CATEGORIES:Regelmäßige Angebote
END:VEVENT
BEGIN:VEVENT
DTSTART;TZID=UTC:20260821T193000
DTEND;TZID=UTC:20260821T193000
DTSTAMP:20260419T174538
CREATED:20260325T191759Z
LAST-MODIFIED:20260326T191503Z
UID:9109-1787340600-1787340600@kirche-kellinghusen.de
SUMMARY:S-H Musikfestival - An die Musik
DESCRIPTION:»Du holde Kunst\, in wieviel grauen Stunden / Wo mich des Lebens wilder Kreis umstrickt / Hast du mein Herz zu war-mer Lieb’ entzunden / Hast mich in eine bessre Welt entrückt« – so heißt es in Franz Schuberts Lied »An die Musik«. Der preisgekrönte schwedische Cellist Torleif Thedéen und die international gefragte armenisch-dänische Pianistin Marianna Shirinyan haben eine besonders innige Beziehung zu diesem kleinen Kunstlied-Juwel und seinen Titel zum Motto ihres Konzertabends beim SHMF gewählt. Neben einer instrumentalen Fassung von »An die Musik« erklingen Werke aus ganz unterschiedlichen Epochen\, die eines gemeinsam haben: Die Musik wird für die Komponisten zum Raum für Rückzug und Geborgenheit\, aber auch für emotionalen Ausdruck und individuelle Entfaltung. Und genauso geht es denjenigen\, die das fertige Werk hören – Klänge als Trost\, ästhetisches Ideal und Freudenquelle. Die früh entstandenen Cellosonaten von Richard Strauss und Samuel Barber (beide op. 6) präsentieren sich etwa als Schauplatz\, wo jugendliche Gefühle in Kunst gegossen werden und hoffnungsvoll »in eine bessre Welt entrücken«. Ein Abend\, der die Kostbarkeit von Musik preist! \nWeitere Infos
URL:https://kirche-kellinghusen.de/veranstaltung/christfest-ii-2-2/
LOCATION:St. Cyriacus Kirche Kellinghusen\, Lindenstraße 2\, Kellinghusen\, 25548
CATEGORIES:Kirchenmusik
END:VEVENT
BEGIN:VEVENT
DTSTART;TZID=Europe/Berlin:20260823T093000
DTEND;TZID=Europe/Berlin:20260823T093000
DTSTAMP:20260419T174538
CREATED:20260109T161921Z
LAST-MODIFIED:20260122T110938Z
UID:8366-1787477400-1787477400@kirche-kellinghusen.de
SUMMARY:12. Sonntag nach Trinitatis
DESCRIPTION:
URL:https://kirche-kellinghusen.de/veranstaltung/12-sonntag-nach-trinitatis/
LOCATION:Christuskirche Hennstedt\, Schulstraße 12\, Hennstedt\, 25581
CATEGORIES:Gottesdienst Hennstedt
END:VEVENT
BEGIN:VEVENT
DTSTART;TZID=Europe/Berlin:20260823T110000
DTEND;TZID=Europe/Berlin:20260823T110000
DTSTAMP:20260419T174538
CREATED:20260109T161921Z
LAST-MODIFIED:20260122T110938Z
UID:8367-1787482800-1787482800@kirche-kellinghusen.de
SUMMARY:12. Sonntag nach Trinitatis
DESCRIPTION:
URL:https://kirche-kellinghusen.de/veranstaltung/12-sonntag-nach-trinitatis-2/
LOCATION:Kirche zu Breitenberg\, Kirchenstraße 16-22\, Breitenberg\, 25597
CATEGORIES:Gottesdienst Breitenberg
END:VEVENT
BEGIN:VEVENT
DTSTART;TZID=Europe/Berlin:20260824T173000
DTEND;TZID=Europe/Berlin:20260824T173000
DTSTAMP:20260419T174538
CREATED:20260304T095717Z
LAST-MODIFIED:20260304T095717Z
UID:8707-1787592600-1787592600@kirche-kellinghusen.de
SUMMARY:Posaunenchor Hennstedt/Poyenberg mit Jungbläsern
DESCRIPTION:
URL:https://kirche-kellinghusen.de/veranstaltung/posaunenchor-hennstedt-poyenberg-mit-jungblaesern-35/
LOCATION:Gemeindehaus Hennstedt
CATEGORIES:Regelmäßige Angebote
END:VEVENT
BEGIN:VEVENT
DTSTART;TZID=Europe/Berlin:20260825T163000
DTEND;TZID=Europe/Berlin:20260825T163000
DTSTAMP:20260419T174538
CREATED:20260304T095825Z
LAST-MODIFIED:20260304T095825Z
UID:8759-1787675400-1787675400@kirche-kellinghusen.de
SUMMARY:K.I.B.A. Regenbogen (5 Jahre bis 4. Klasse)
DESCRIPTION:
URL:https://kirche-kellinghusen.de/veranstaltung/k-i-b-a-regenbogen-5-jahre-bis-4-klasse-34/
CATEGORIES:Regelmäßige Angebote
END:VEVENT
END:VCALENDAR