BEGIN:VCALENDAR
VERSION:2.0
PRODID:-//Ev.-Luth. Kirchengemeinde Kellinghusen - ECPv6.15.20//NONSGML v1.0//EN
CALSCALE:GREGORIAN
METHOD:PUBLISH
X-WR-CALNAME:Ev.-Luth. Kirchengemeinde Kellinghusen
X-ORIGINAL-URL:https://kirche-kellinghusen.de
X-WR-CALDESC:Veranstaltungen für Ev.-Luth. Kirchengemeinde Kellinghusen
REFRESH-INTERVAL;VALUE=DURATION:PT1H
X-Robots-Tag:noindex
X-PUBLISHED-TTL:PT1H
BEGIN:VTIMEZONE
TZID:Europe/Berlin
BEGIN:DAYLIGHT
TZOFFSETFROM:+0100
TZOFFSETTO:+0200
TZNAME:CEST
DTSTART:20250330T010000
END:DAYLIGHT
BEGIN:STANDARD
TZOFFSETFROM:+0200
TZOFFSETTO:+0100
TZNAME:CET
DTSTART:20251026T010000
END:STANDARD
BEGIN:DAYLIGHT
TZOFFSETFROM:+0100
TZOFFSETTO:+0200
TZNAME:CEST
DTSTART:20260329T010000
END:DAYLIGHT
BEGIN:STANDARD
TZOFFSETFROM:+0200
TZOFFSETTO:+0100
TZNAME:CET
DTSTART:20261025T010000
END:STANDARD
BEGIN:DAYLIGHT
TZOFFSETFROM:+0100
TZOFFSETTO:+0200
TZNAME:CEST
DTSTART:20270328T010000
END:DAYLIGHT
BEGIN:STANDARD
TZOFFSETFROM:+0200
TZOFFSETTO:+0100
TZNAME:CET
DTSTART:20271031T010000
END:STANDARD
END:VTIMEZONE
BEGIN:VEVENT
DTSTART;TZID=Europe/Berlin:20260909T153000
DTEND;TZID=Europe/Berlin:20260909T153000
DTSTAMP:20260419T213417
CREATED:20260304T100733Z
LAST-MODIFIED:20260304T100733Z
UID:8930-1788967800-1788967800@kirche-kellinghusen.de
SUMMARY:Eltern- und Kinderchor
DESCRIPTION:
URL:https://kirche-kellinghusen.de/veranstaltung/eltern-und-kinderchor-17/
LOCATION:Gemeindehaus Kellinghusen\, Lindenstraße 2\, Kellinghusen\, 25548
CATEGORIES:Regelmäßige Angebote
END:VEVENT
BEGIN:VEVENT
DTSTART;TZID=Europe/Berlin:20260909T173000
DTEND;TZID=Europe/Berlin:20260909T173000
DTSTAMP:20260419T213417
CREATED:20260304T101155Z
LAST-MODIFIED:20260304T101155Z
UID:8954-1788975000-1788975000@kirche-kellinghusen.de
SUMMARY:Basic – die Jugendgruppe
DESCRIPTION:
URL:https://kirche-kellinghusen.de/veranstaltung/basic-die-jugendgruppe-17/
CATEGORIES:Regelmäßige Angebote
END:VEVENT
BEGIN:VEVENT
DTSTART;TZID=Europe/Berlin:20260909T193000
DTEND;TZID=Europe/Berlin:20260909T193000
DTSTAMP:20260419T213417
CREATED:20260304T100233Z
LAST-MODIFIED:20260304T100233Z
UID:8873-1788982200-1788982200@kirche-kellinghusen.de
SUMMARY:Kirchenchor Hennstedt
DESCRIPTION:
URL:https://kirche-kellinghusen.de/veranstaltung/kirchenchor-hennstedt-36/
LOCATION:Gemeindehaus Hennstedt
CATEGORIES:Regelmäßige Angebote
END:VEVENT
BEGIN:VEVENT
DTSTART;TZID=Europe/Berlin:20260909T193000
DTEND;TZID=Europe/Berlin:20260909T193000
DTSTAMP:20260419T213417
CREATED:20260304T100428Z
LAST-MODIFIED:20260304T100428Z
UID:8906-1788982200-1788982200@kirche-kellinghusen.de
SUMMARY:Sing along
DESCRIPTION:
URL:https://kirche-kellinghusen.de/veranstaltung/sing-along-17/
CATEGORIES:Regelmäßige Angebote
END:VEVENT
BEGIN:VEVENT
DTSTART;TZID=Europe/Berlin:20260910T193000
DTEND;TZID=Europe/Berlin:20260910T193000
DTSTAMP:20260419T213417
CREATED:20260304T101613Z
LAST-MODIFIED:20260304T101613Z
UID:8998-1789068600-1789068600@kirche-kellinghusen.de
SUMMARY:Kantorei
DESCRIPTION:
URL:https://kirche-kellinghusen.de/veranstaltung/kantorei-37/
CATEGORIES:Regelmäßige Angebote
END:VEVENT
BEGIN:VEVENT
DTSTART;TZID=Europe/Berlin:20260913T093000
DTEND;TZID=Europe/Berlin:20260913T093000
DTSTAMP:20260419T213417
CREATED:20260109T161924Z
LAST-MODIFIED:20260122T110941Z
UID:8371-1789291800-1789291800@kirche-kellinghusen.de
SUMMARY:15. Sonntag nach Trinitatis
DESCRIPTION:
URL:https://kirche-kellinghusen.de/veranstaltung/15-sonntag-nach-trinitatis-2/
LOCATION:Christuskirche Hennstedt\, Schulstraße 12\, Hennstedt\, 25581
CATEGORIES:Gottesdienst Hennstedt
END:VEVENT
BEGIN:VEVENT
DTSTART;TZID=Europe/Berlin:20260913T103000
DTEND;TZID=Europe/Berlin:20260913T103000
DTSTAMP:20260419T213417
CREATED:20260109T161924Z
LAST-MODIFIED:20260122T110941Z
UID:8370-1789295400-1789295400@kirche-kellinghusen.de
SUMMARY:15. Sonntag nach Trinitatis
DESCRIPTION:
URL:https://kirche-kellinghusen.de/veranstaltung/15-sonntag-nach-trinitatis/
LOCATION:St. Cyriacus Kirche Kellinghusen\, Lindenstraße 2\, Kellinghusen\, 25548
CATEGORIES:Gottesdienst Kellinghusen
END:VEVENT
BEGIN:VEVENT
DTSTART;TZID=Europe/Berlin:20260913T110000
DTEND;TZID=Europe/Berlin:20260913T110000
DTSTAMP:20260419T213417
CREATED:20260109T161924Z
LAST-MODIFIED:20260122T110941Z
UID:8372-1789297200-1789297200@kirche-kellinghusen.de
SUMMARY:15. Sonntag nach Trinitatis
DESCRIPTION:
URL:https://kirche-kellinghusen.de/veranstaltung/15-sonntag-nach-trinitatis-3/
LOCATION:Kirche zu Breitenberg\, Kirchenstraße 16-22\, Breitenberg\, 25597
CATEGORIES:Gottesdienst Breitenberg
END:VEVENT
BEGIN:VEVENT
DTSTART;TZID=Europe/Berlin:20260914T173000
DTEND;TZID=Europe/Berlin:20260914T173000
DTSTAMP:20260419T213417
CREATED:20260304T095718Z
LAST-MODIFIED:20260304T095718Z
UID:8710-1789407000-1789407000@kirche-kellinghusen.de
SUMMARY:Posaunenchor Hennstedt/Poyenberg mit Jungbläsern
DESCRIPTION:
URL:https://kirche-kellinghusen.de/veranstaltung/posaunenchor-hennstedt-poyenberg-mit-jungblaesern-38/
LOCATION:Gemeindehaus Hennstedt
CATEGORIES:Regelmäßige Angebote
END:VEVENT
BEGIN:VEVENT
DTSTART;TZID=Europe/Berlin:20260915T163000
DTEND;TZID=Europe/Berlin:20260915T163000
DTSTAMP:20260419T213417
CREATED:20260304T095835Z
LAST-MODIFIED:20260304T095835Z
UID:8762-1789489800-1789489800@kirche-kellinghusen.de
SUMMARY:K.I.B.A. Regenbogen (5 Jahre bis 4. Klasse)
DESCRIPTION:
URL:https://kirche-kellinghusen.de/veranstaltung/k-i-b-a-regenbogen-5-jahre-bis-4-klasse-37/
CATEGORIES:Regelmäßige Angebote
END:VEVENT
BEGIN:VEVENT
DTSTART;TZID=Europe/Berlin:20260915T193000
DTEND;TZID=Europe/Berlin:20260915T193000
DTSTAMP:20260419T213417
CREATED:20260304T100031Z
LAST-MODIFIED:20260304T100031Z
UID:8819-1789500600-1789500600@kirche-kellinghusen.de
SUMMARY:Pro Gospel
DESCRIPTION:
URL:https://kirche-kellinghusen.de/veranstaltung/pro-gospel-37/
LOCATION:Gemeindehaus Kellinghusen\, Lindenstraße 2\, Kellinghusen\, 25548
CATEGORIES:Regelmäßige Angebote
END:VEVENT
BEGIN:VEVENT
DTSTART;TZID=Europe/Berlin:20260916T193000
DTEND;TZID=Europe/Berlin:20260916T193000
DTSTAMP:20260419T213417
CREATED:20260304T100233Z
LAST-MODIFIED:20260304T100233Z
UID:8874-1789587000-1789587000@kirche-kellinghusen.de
SUMMARY:Kirchenchor Hennstedt
DESCRIPTION:
URL:https://kirche-kellinghusen.de/veranstaltung/kirchenchor-hennstedt-37/
LOCATION:Gemeindehaus Hennstedt
CATEGORIES:Regelmäßige Angebote
END:VEVENT
BEGIN:VEVENT
DTSTART;TZID=Europe/Berlin:20260917T193000
DTEND;TZID=Europe/Berlin:20260917T193000
DTSTAMP:20260419T213417
CREATED:20260304T101613Z
LAST-MODIFIED:20260304T101613Z
UID:8999-1789673400-1789673400@kirche-kellinghusen.de
SUMMARY:Kantorei
DESCRIPTION:
URL:https://kirche-kellinghusen.de/veranstaltung/kantorei-38/
CATEGORIES:Regelmäßige Angebote
END:VEVENT
BEGIN:VEVENT
DTSTART;TZID=Europe/Berlin:20260920T110000
DTEND;TZID=Europe/Berlin:20260920T110000
DTSTAMP:20260419T213417
CREATED:20260109T161924Z
LAST-MODIFIED:20260122T110941Z
UID:8373-1789902000-1789902000@kirche-kellinghusen.de
SUMMARY:16. Sonntag nach Trinitatis
DESCRIPTION:
URL:https://kirche-kellinghusen.de/veranstaltung/16-sonntag-nach-trinitatis/
LOCATION:St. Cyriacus Kirche Kellinghusen\, Lindenstraße 2\, Kellinghusen\, 25548
CATEGORIES:Gottesdienst Kellinghusen
END:VEVENT
BEGIN:VEVENT
DTSTART;TZID=Europe/Berlin:20260921T173000
DTEND;TZID=Europe/Berlin:20260921T173000
DTSTAMP:20260419T213417
CREATED:20260304T095719Z
LAST-MODIFIED:20260304T095719Z
UID:8711-1790011800-1790011800@kirche-kellinghusen.de
SUMMARY:Posaunenchor Hennstedt/Poyenberg mit Jungbläsern
DESCRIPTION:
URL:https://kirche-kellinghusen.de/veranstaltung/posaunenchor-hennstedt-poyenberg-mit-jungblaesern-39/
LOCATION:Gemeindehaus Hennstedt
CATEGORIES:Regelmäßige Angebote
END:VEVENT
BEGIN:VEVENT
DTSTART;TZID=Europe/Berlin:20260922T163000
DTEND;TZID=Europe/Berlin:20260922T163000
DTSTAMP:20260419T213417
CREATED:20260304T095835Z
LAST-MODIFIED:20260304T095835Z
UID:8763-1790094600-1790094600@kirche-kellinghusen.de
SUMMARY:K.I.B.A. Regenbogen (5 Jahre bis 4. Klasse)
DESCRIPTION:
URL:https://kirche-kellinghusen.de/veranstaltung/k-i-b-a-regenbogen-5-jahre-bis-4-klasse-38/
CATEGORIES:Regelmäßige Angebote
END:VEVENT
BEGIN:VEVENT
DTSTART;TZID=Europe/Berlin:20260922T193000
DTEND;TZID=Europe/Berlin:20260922T193000
DTSTAMP:20260419T213417
CREATED:20260304T100032Z
LAST-MODIFIED:20260304T100032Z
UID:8820-1790105400-1790105400@kirche-kellinghusen.de
SUMMARY:Pro Gospel
DESCRIPTION:
URL:https://kirche-kellinghusen.de/veranstaltung/pro-gospel-38/
LOCATION:Gemeindehaus Kellinghusen\, Lindenstraße 2\, Kellinghusen\, 25548
CATEGORIES:Regelmäßige Angebote
END:VEVENT
BEGIN:VEVENT
DTSTART;TZID=Europe/Berlin:20260923T153000
DTEND;TZID=Europe/Berlin:20260923T153000
DTSTAMP:20260419T213417
CREATED:20260304T100733Z
LAST-MODIFIED:20260304T100733Z
UID:8931-1790177400-1790177400@kirche-kellinghusen.de
SUMMARY:Eltern- und Kinderchor
DESCRIPTION:
URL:https://kirche-kellinghusen.de/veranstaltung/eltern-und-kinderchor-18/
LOCATION:Gemeindehaus Kellinghusen\, Lindenstraße 2\, Kellinghusen\, 25548
CATEGORIES:Regelmäßige Angebote
END:VEVENT
BEGIN:VEVENT
DTSTART;TZID=Europe/Berlin:20260923T173000
DTEND;TZID=Europe/Berlin:20260923T173000
DTSTAMP:20260419T213417
CREATED:20260304T101155Z
LAST-MODIFIED:20260304T101155Z
UID:8955-1790184600-1790184600@kirche-kellinghusen.de
SUMMARY:Basic – die Jugendgruppe
DESCRIPTION:
URL:https://kirche-kellinghusen.de/veranstaltung/basic-die-jugendgruppe-18/
CATEGORIES:Regelmäßige Angebote
END:VEVENT
BEGIN:VEVENT
DTSTART;TZID=Europe/Berlin:20260923T193000
DTEND;TZID=Europe/Berlin:20260923T193000
DTSTAMP:20260419T213417
CREATED:20260304T100233Z
LAST-MODIFIED:20260304T100233Z
UID:8875-1790191800-1790191800@kirche-kellinghusen.de
SUMMARY:Kirchenchor Hennstedt
DESCRIPTION:
URL:https://kirche-kellinghusen.de/veranstaltung/kirchenchor-hennstedt-38/
LOCATION:Gemeindehaus Hennstedt
CATEGORIES:Regelmäßige Angebote
END:VEVENT
BEGIN:VEVENT
DTSTART;TZID=Europe/Berlin:20260923T193000
DTEND;TZID=Europe/Berlin:20260923T193000
DTSTAMP:20260419T213417
CREATED:20260304T100443Z
LAST-MODIFIED:20260304T100443Z
UID:8907-1790191800-1790191800@kirche-kellinghusen.de
SUMMARY:Sing along
DESCRIPTION:
URL:https://kirche-kellinghusen.de/veranstaltung/sing-along-18/
CATEGORIES:Regelmäßige Angebote
END:VEVENT
BEGIN:VEVENT
DTSTART;TZID=Europe/Berlin:20260924T193000
DTEND;TZID=Europe/Berlin:20260924T193000
DTSTAMP:20260419T213417
CREATED:20260304T101613Z
LAST-MODIFIED:20260304T101613Z
UID:9000-1790278200-1790278200@kirche-kellinghusen.de
SUMMARY:Kantorei
DESCRIPTION:
URL:https://kirche-kellinghusen.de/veranstaltung/kantorei-39/
CATEGORIES:Regelmäßige Angebote
END:VEVENT
BEGIN:VEVENT
DTSTART;TZID=Europe/Berlin:20260927T100000
DTEND;TZID=Europe/Berlin:20260927T100000
DTSTAMP:20260419T213417
CREATED:20260109T161937Z
LAST-MODIFIED:20260122T110951Z
UID:8374-1790503200-1790503200@kirche-kellinghusen.de
SUMMARY:17. Sonntag nach Trinitatis
DESCRIPTION:
URL:https://kirche-kellinghusen.de/veranstaltung/17-sonntag-nach-trinitatis/
LOCATION:Christuskirche Hennstedt\, Schulstraße 12\, Hennstedt\, 25581
CATEGORIES:Gottesdienst Hennstedt
END:VEVENT
BEGIN:VEVENT
DTSTART;TZID=Europe/Berlin:20260927T110000
DTEND;TZID=Europe/Berlin:20260927T110000
DTSTAMP:20260419T213417
CREATED:20260109T161937Z
LAST-MODIFIED:20260122T110951Z
UID:8375-1790506800-1790506800@kirche-kellinghusen.de
SUMMARY:17. Sonntag nach Trinitatis
DESCRIPTION:
URL:https://kirche-kellinghusen.de/veranstaltung/17-sonntag-nach-trinitatis-2/
LOCATION:Kirche zu Breitenberg\, Kirchenstraße 16-22\, Breitenberg\, 25597
CATEGORIES:Gottesdienst Breitenberg
END:VEVENT
BEGIN:VEVENT
DTSTART;TZID=Europe/Berlin:20260928T173000
DTEND;TZID=Europe/Berlin:20260928T173000
DTSTAMP:20260419T213417
CREATED:20260304T095727Z
LAST-MODIFIED:20260304T095727Z
UID:8712-1790616600-1790616600@kirche-kellinghusen.de
SUMMARY:Posaunenchor Hennstedt/Poyenberg mit Jungbläsern
DESCRIPTION:
URL:https://kirche-kellinghusen.de/veranstaltung/posaunenchor-hennstedt-poyenberg-mit-jungblaesern-40/
LOCATION:Gemeindehaus Hennstedt
CATEGORIES:Regelmäßige Angebote
END:VEVENT
BEGIN:VEVENT
DTSTART;TZID=Europe/Berlin:20260929T163000
DTEND;TZID=Europe/Berlin:20260929T163000
DTSTAMP:20260419T213417
CREATED:20260304T095835Z
LAST-MODIFIED:20260304T095835Z
UID:8764-1790699400-1790699400@kirche-kellinghusen.de
SUMMARY:K.I.B.A. Regenbogen (5 Jahre bis 4. Klasse)
DESCRIPTION:
URL:https://kirche-kellinghusen.de/veranstaltung/k-i-b-a-regenbogen-5-jahre-bis-4-klasse-39/
CATEGORIES:Regelmäßige Angebote
END:VEVENT
BEGIN:VEVENT
DTSTART;TZID=Europe/Berlin:20260929T193000
DTEND;TZID=Europe/Berlin:20260929T193000
DTSTAMP:20260419T213417
CREATED:20260304T100032Z
LAST-MODIFIED:20260304T100032Z
UID:8821-1790710200-1790710200@kirche-kellinghusen.de
SUMMARY:Pro Gospel
DESCRIPTION:
URL:https://kirche-kellinghusen.de/veranstaltung/pro-gospel-39/
LOCATION:Gemeindehaus Kellinghusen\, Lindenstraße 2\, Kellinghusen\, 25548
CATEGORIES:Regelmäßige Angebote
END:VEVENT
BEGIN:VEVENT
DTSTART;TZID=Europe/Berlin:20260930T193000
DTEND;TZID=Europe/Berlin:20260930T193000
DTSTAMP:20260419T213417
CREATED:20260304T100234Z
LAST-MODIFIED:20260304T100234Z
UID:8876-1790796600-1790796600@kirche-kellinghusen.de
SUMMARY:Kirchenchor Hennstedt
DESCRIPTION:
URL:https://kirche-kellinghusen.de/veranstaltung/kirchenchor-hennstedt-39/
LOCATION:Gemeindehaus Hennstedt
CATEGORIES:Regelmäßige Angebote
END:VEVENT
BEGIN:VEVENT
DTSTART;TZID=Europe/Berlin:20261001T193000
DTEND;TZID=Europe/Berlin:20261001T193000
DTSTAMP:20260419T213417
CREATED:20260304T101614Z
LAST-MODIFIED:20260304T101614Z
UID:9001-1790883000-1790883000@kirche-kellinghusen.de
SUMMARY:Kantorei
DESCRIPTION:
URL:https://kirche-kellinghusen.de/veranstaltung/kantorei-40/
CATEGORIES:Regelmäßige Angebote
END:VEVENT
BEGIN:VEVENT
DTSTART;TZID=Europe/Berlin:20261004T093000
DTEND;TZID=Europe/Berlin:20261004T093000
DTSTAMP:20260419T213417
CREATED:20260109T161938Z
LAST-MODIFIED:20260122T110952Z
UID:8377-1791106200-1791106200@kirche-kellinghusen.de
SUMMARY:Erntedankfest
DESCRIPTION:
URL:https://kirche-kellinghusen.de/veranstaltung/erntedankfest-2/
LOCATION:Christuskirche Hennstedt\, Schulstraße 12\, Hennstedt\, 25581
CATEGORIES:Gottesdienst Hennstedt
END:VEVENT
END:VCALENDAR