BEGIN:VCALENDAR
VERSION:2.0
PRODID:-//Ev.-Luth. Kirchengemeinde Kellinghusen - ECPv6.15.20//NONSGML v1.0//EN
CALSCALE:GREGORIAN
METHOD:PUBLISH
X-WR-CALNAME:Ev.-Luth. Kirchengemeinde Kellinghusen
X-ORIGINAL-URL:https://kirche-kellinghusen.de
X-WR-CALDESC:Veranstaltungen für Ev.-Luth. Kirchengemeinde Kellinghusen
REFRESH-INTERVAL;VALUE=DURATION:PT1H
X-Robots-Tag:noindex
X-PUBLISHED-TTL:PT1H
BEGIN:VTIMEZONE
TZID:Europe/Berlin
BEGIN:DAYLIGHT
TZOFFSETFROM:+0100
TZOFFSETTO:+0200
TZNAME:CEST
DTSTART:20250330T010000
END:DAYLIGHT
BEGIN:STANDARD
TZOFFSETFROM:+0200
TZOFFSETTO:+0100
TZNAME:CET
DTSTART:20251026T010000
END:STANDARD
BEGIN:DAYLIGHT
TZOFFSETFROM:+0100
TZOFFSETTO:+0200
TZNAME:CEST
DTSTART:20260329T010000
END:DAYLIGHT
BEGIN:STANDARD
TZOFFSETFROM:+0200
TZOFFSETTO:+0100
TZNAME:CET
DTSTART:20261025T010000
END:STANDARD
BEGIN:DAYLIGHT
TZOFFSETFROM:+0100
TZOFFSETTO:+0200
TZNAME:CEST
DTSTART:20270328T010000
END:DAYLIGHT
BEGIN:STANDARD
TZOFFSETFROM:+0200
TZOFFSETTO:+0100
TZNAME:CET
DTSTART:20271031T010000
END:STANDARD
END:VTIMEZONE
BEGIN:VEVENT
DTSTART;TZID=Europe/Berlin:20260928T173000
DTEND;TZID=Europe/Berlin:20260928T173000
DTSTAMP:20260419T231028
CREATED:20260304T095727Z
LAST-MODIFIED:20260304T095727Z
UID:8712-1790616600-1790616600@kirche-kellinghusen.de
SUMMARY:Posaunenchor Hennstedt/Poyenberg mit Jungbläsern
DESCRIPTION:
URL:https://kirche-kellinghusen.de/veranstaltung/posaunenchor-hennstedt-poyenberg-mit-jungblaesern-40/
LOCATION:Gemeindehaus Hennstedt
CATEGORIES:Regelmäßige Angebote
END:VEVENT
BEGIN:VEVENT
DTSTART;TZID=Europe/Berlin:20260929T163000
DTEND;TZID=Europe/Berlin:20260929T163000
DTSTAMP:20260419T231028
CREATED:20260304T095835Z
LAST-MODIFIED:20260304T095835Z
UID:8764-1790699400-1790699400@kirche-kellinghusen.de
SUMMARY:K.I.B.A. Regenbogen (5 Jahre bis 4. Klasse)
DESCRIPTION:
URL:https://kirche-kellinghusen.de/veranstaltung/k-i-b-a-regenbogen-5-jahre-bis-4-klasse-39/
CATEGORIES:Regelmäßige Angebote
END:VEVENT
BEGIN:VEVENT
DTSTART;TZID=Europe/Berlin:20260929T193000
DTEND;TZID=Europe/Berlin:20260929T193000
DTSTAMP:20260419T231028
CREATED:20260304T100032Z
LAST-MODIFIED:20260304T100032Z
UID:8821-1790710200-1790710200@kirche-kellinghusen.de
SUMMARY:Pro Gospel
DESCRIPTION:
URL:https://kirche-kellinghusen.de/veranstaltung/pro-gospel-39/
LOCATION:Gemeindehaus Kellinghusen\, Lindenstraße 2\, Kellinghusen\, 25548
CATEGORIES:Regelmäßige Angebote
END:VEVENT
BEGIN:VEVENT
DTSTART;TZID=Europe/Berlin:20260930T193000
DTEND;TZID=Europe/Berlin:20260930T193000
DTSTAMP:20260419T231028
CREATED:20260304T100234Z
LAST-MODIFIED:20260304T100234Z
UID:8876-1790796600-1790796600@kirche-kellinghusen.de
SUMMARY:Kirchenchor Hennstedt
DESCRIPTION:
URL:https://kirche-kellinghusen.de/veranstaltung/kirchenchor-hennstedt-39/
LOCATION:Gemeindehaus Hennstedt
CATEGORIES:Regelmäßige Angebote
END:VEVENT
BEGIN:VEVENT
DTSTART;TZID=Europe/Berlin:20261001T193000
DTEND;TZID=Europe/Berlin:20261001T193000
DTSTAMP:20260419T231028
CREATED:20260304T101614Z
LAST-MODIFIED:20260304T101614Z
UID:9001-1790883000-1790883000@kirche-kellinghusen.de
SUMMARY:Kantorei
DESCRIPTION:
URL:https://kirche-kellinghusen.de/veranstaltung/kantorei-40/
CATEGORIES:Regelmäßige Angebote
END:VEVENT
BEGIN:VEVENT
DTSTART;TZID=Europe/Berlin:20261004T093000
DTEND;TZID=Europe/Berlin:20261004T093000
DTSTAMP:20260419T231028
CREATED:20260109T161938Z
LAST-MODIFIED:20260122T110952Z
UID:8377-1791106200-1791106200@kirche-kellinghusen.de
SUMMARY:Erntedankfest
DESCRIPTION:
URL:https://kirche-kellinghusen.de/veranstaltung/erntedankfest-2/
LOCATION:Christuskirche Hennstedt\, Schulstraße 12\, Hennstedt\, 25581
CATEGORIES:Gottesdienst Hennstedt
END:VEVENT
BEGIN:VEVENT
DTSTART;TZID=Europe/Berlin:20261004T100000
DTEND;TZID=Europe/Berlin:20261004T100000
DTSTAMP:20260419T231028
CREATED:20260109T161938Z
LAST-MODIFIED:20260122T110952Z
UID:8378-1791108000-1791108000@kirche-kellinghusen.de
SUMMARY:Erntedankfest
DESCRIPTION:
URL:https://kirche-kellinghusen.de/veranstaltung/erntedankfest-3/
LOCATION:Kirche zu Breitenberg\, Kirchenstraße 16-22\, Breitenberg\, 25597
CATEGORIES:Gottesdienst Breitenberg
END:VEVENT
BEGIN:VEVENT
DTSTART;TZID=Europe/Berlin:20261004T110000
DTEND;TZID=Europe/Berlin:20261004T110000
DTSTAMP:20260419T231028
CREATED:20260109T161937Z
LAST-MODIFIED:20260122T110952Z
UID:8376-1791111600-1791111600@kirche-kellinghusen.de
SUMMARY:Erntedankfest
DESCRIPTION:
URL:https://kirche-kellinghusen.de/veranstaltung/erntedankfest/
LOCATION:St. Cyriacus Kirche Kellinghusen\, Lindenstraße 2\, Kellinghusen\, 25548
CATEGORIES:Gottesdienst Kellinghusen
END:VEVENT
BEGIN:VEVENT
DTSTART;TZID=Europe/Berlin:20261005T150000
DTEND;TZID=Europe/Berlin:20261005T150000
DTSTAMP:20260419T231028
CREATED:20260304T095452Z
LAST-MODIFIED:20260304T095452Z
UID:8666-1791212400-1791212400@kirche-kellinghusen.de
SUMMARY:Begegnungsnachmittag
DESCRIPTION:
URL:https://kirche-kellinghusen.de/veranstaltung/begegnungsnachmittag-10/
CATEGORIES:Regelmäßige Angebote
END:VEVENT
BEGIN:VEVENT
DTSTART;TZID=Europe/Berlin:20261005T173000
DTEND;TZID=Europe/Berlin:20261005T173000
DTSTAMP:20260419T231028
CREATED:20260304T095728Z
LAST-MODIFIED:20260304T095728Z
UID:8713-1791221400-1791221400@kirche-kellinghusen.de
SUMMARY:Posaunenchor Hennstedt/Poyenberg mit Jungbläsern
DESCRIPTION:
URL:https://kirche-kellinghusen.de/veranstaltung/posaunenchor-hennstedt-poyenberg-mit-jungblaesern-41/
LOCATION:Gemeindehaus Hennstedt
CATEGORIES:Regelmäßige Angebote
END:VEVENT
BEGIN:VEVENT
DTSTART;TZID=Europe/Berlin:20261006T163000
DTEND;TZID=Europe/Berlin:20261006T163000
DTSTAMP:20260419T231028
CREATED:20260304T095835Z
LAST-MODIFIED:20260304T095835Z
UID:8765-1791304200-1791304200@kirche-kellinghusen.de
SUMMARY:K.I.B.A. Regenbogen (5 Jahre bis 4. Klasse)
DESCRIPTION:
URL:https://kirche-kellinghusen.de/veranstaltung/k-i-b-a-regenbogen-5-jahre-bis-4-klasse-40/
CATEGORIES:Regelmäßige Angebote
END:VEVENT
BEGIN:VEVENT
DTSTART;TZID=Europe/Berlin:20261006T193000
DTEND;TZID=Europe/Berlin:20261006T193000
DTSTAMP:20260419T231028
CREATED:20260304T100041Z
LAST-MODIFIED:20260304T100041Z
UID:8822-1791315000-1791315000@kirche-kellinghusen.de
SUMMARY:Pro Gospel
DESCRIPTION:
URL:https://kirche-kellinghusen.de/veranstaltung/pro-gospel-40/
LOCATION:Gemeindehaus Kellinghusen\, Lindenstraße 2\, Kellinghusen\, 25548
CATEGORIES:Regelmäßige Angebote
END:VEVENT
BEGIN:VEVENT
DTSTART;TZID=Europe/Berlin:20261007T193000
DTEND;TZID=Europe/Berlin:20261007T193000
DTSTAMP:20260419T231028
CREATED:20260304T100237Z
LAST-MODIFIED:20260304T100237Z
UID:8877-1791401400-1791401400@kirche-kellinghusen.de
SUMMARY:Kirchenchor Hennstedt
DESCRIPTION:
URL:https://kirche-kellinghusen.de/veranstaltung/kirchenchor-hennstedt-40/
LOCATION:Gemeindehaus Hennstedt
CATEGORIES:Regelmäßige Angebote
END:VEVENT
BEGIN:VEVENT
DTSTART;TZID=Europe/Berlin:20261008T193000
DTEND;TZID=Europe/Berlin:20261008T193000
DTSTAMP:20260419T231028
CREATED:20260304T101624Z
LAST-MODIFIED:20260304T101624Z
UID:9002-1791487800-1791487800@kirche-kellinghusen.de
SUMMARY:Kantorei
DESCRIPTION:
URL:https://kirche-kellinghusen.de/veranstaltung/kantorei-41/
CATEGORIES:Regelmäßige Angebote
END:VEVENT
BEGIN:VEVENT
DTSTART;TZID=Europe/Berlin:20261011T093000
DTEND;TZID=Europe/Berlin:20261011T093000
DTSTAMP:20260419T231028
CREATED:20260109T161940Z
LAST-MODIFIED:20260122T110954Z
UID:8379-1791711000-1791711000@kirche-kellinghusen.de
SUMMARY:19. Sonntag nach Trinitatis
DESCRIPTION:
URL:https://kirche-kellinghusen.de/veranstaltung/19-sonntag-nach-trinitatis/
LOCATION:Christuskirche Hennstedt\, Schulstraße 12\, Hennstedt\, 25581
CATEGORIES:Gottesdienst Hennstedt
END:VEVENT
BEGIN:VEVENT
DTSTART;TZID=Europe/Berlin:20261011T110000
DTEND;TZID=Europe/Berlin:20261011T110000
DTSTAMP:20260419T231028
CREATED:20260109T161940Z
LAST-MODIFIED:20260122T110954Z
UID:8380-1791716400-1791716400@kirche-kellinghusen.de
SUMMARY:19. Sonntag nach Trinitatis
DESCRIPTION:
URL:https://kirche-kellinghusen.de/veranstaltung/19-sonntag-nach-trinitatis-2/
LOCATION:Kirche zu Breitenberg\, Kirchenstraße 16-22\, Breitenberg\, 25597
CATEGORIES:Gottesdienst Breitenberg
END:VEVENT
BEGIN:VEVENT
DTSTART;TZID=Europe/Berlin:20261012T173000
DTEND;TZID=Europe/Berlin:20261012T173000
DTSTAMP:20260419T231028
CREATED:20260304T095728Z
LAST-MODIFIED:20260304T095728Z
UID:8714-1791826200-1791826200@kirche-kellinghusen.de
SUMMARY:Posaunenchor Hennstedt/Poyenberg mit Jungbläsern
DESCRIPTION:
URL:https://kirche-kellinghusen.de/veranstaltung/posaunenchor-hennstedt-poyenberg-mit-jungblaesern-42/
LOCATION:Gemeindehaus Hennstedt
CATEGORIES:Regelmäßige Angebote
END:VEVENT
BEGIN:VEVENT
DTSTART;TZID=Europe/Berlin:20261013T163000
DTEND;TZID=Europe/Berlin:20261013T163000
DTSTAMP:20260419T231028
CREATED:20260304T095836Z
LAST-MODIFIED:20260304T095836Z
UID:8766-1791909000-1791909000@kirche-kellinghusen.de
SUMMARY:K.I.B.A. Regenbogen (5 Jahre bis 4. Klasse)
DESCRIPTION:
URL:https://kirche-kellinghusen.de/veranstaltung/k-i-b-a-regenbogen-5-jahre-bis-4-klasse-41/
CATEGORIES:Regelmäßige Angebote
END:VEVENT
BEGIN:VEVENT
DTSTART;TZID=Europe/Berlin:20261013T193000
DTEND;TZID=Europe/Berlin:20261013T193000
DTSTAMP:20260419T231028
CREATED:20260304T100041Z
LAST-MODIFIED:20260304T100041Z
UID:8823-1791919800-1791919800@kirche-kellinghusen.de
SUMMARY:Pro Gospel
DESCRIPTION:
URL:https://kirche-kellinghusen.de/veranstaltung/pro-gospel-41/
LOCATION:Gemeindehaus Kellinghusen\, Lindenstraße 2\, Kellinghusen\, 25548
CATEGORIES:Regelmäßige Angebote
END:VEVENT
BEGIN:VEVENT
DTSTART;TZID=Europe/Berlin:20261014T153000
DTEND;TZID=Europe/Berlin:20261014T153000
DTSTAMP:20260419T231028
CREATED:20260304T100758Z
LAST-MODIFIED:20260304T100758Z
UID:8932-1791991800-1791991800@kirche-kellinghusen.de
SUMMARY:Eltern- und Kinderchor
DESCRIPTION:
URL:https://kirche-kellinghusen.de/veranstaltung/eltern-und-kinderchor-19/
LOCATION:Gemeindehaus Kellinghusen\, Lindenstraße 2\, Kellinghusen\, 25548
CATEGORIES:Regelmäßige Angebote
END:VEVENT
BEGIN:VEVENT
DTSTART;TZID=Europe/Berlin:20261014T173000
DTEND;TZID=Europe/Berlin:20261014T173000
DTSTAMP:20260419T231028
CREATED:20260304T101155Z
LAST-MODIFIED:20260304T101155Z
UID:8956-1791999000-1791999000@kirche-kellinghusen.de
SUMMARY:Basic – die Jugendgruppe
DESCRIPTION:
URL:https://kirche-kellinghusen.de/veranstaltung/basic-die-jugendgruppe-19/
CATEGORIES:Regelmäßige Angebote
END:VEVENT
BEGIN:VEVENT
DTSTART;TZID=Europe/Berlin:20261014T193000
DTEND;TZID=Europe/Berlin:20261014T193000
DTSTAMP:20260419T231028
CREATED:20260304T100237Z
LAST-MODIFIED:20260304T100237Z
UID:8878-1792006200-1792006200@kirche-kellinghusen.de
SUMMARY:Kirchenchor Hennstedt
DESCRIPTION:
URL:https://kirche-kellinghusen.de/veranstaltung/kirchenchor-hennstedt-41/
LOCATION:Gemeindehaus Hennstedt
CATEGORIES:Regelmäßige Angebote
END:VEVENT
BEGIN:VEVENT
DTSTART;TZID=Europe/Berlin:20261014T193000
DTEND;TZID=Europe/Berlin:20261014T193000
DTSTAMP:20260419T231028
CREATED:20260304T100443Z
LAST-MODIFIED:20260304T100443Z
UID:8908-1792006200-1792006200@kirche-kellinghusen.de
SUMMARY:Sing along
DESCRIPTION:
URL:https://kirche-kellinghusen.de/veranstaltung/sing-along-19/
CATEGORIES:Regelmäßige Angebote
END:VEVENT
BEGIN:VEVENT
DTSTART;TZID=Europe/Berlin:20261015T193000
DTEND;TZID=Europe/Berlin:20261015T193000
DTSTAMP:20260419T231028
CREATED:20260304T101625Z
LAST-MODIFIED:20260304T101625Z
UID:9003-1792092600-1792092600@kirche-kellinghusen.de
SUMMARY:Kantorei
DESCRIPTION:
URL:https://kirche-kellinghusen.de/veranstaltung/kantorei-42/
CATEGORIES:Regelmäßige Angebote
END:VEVENT
BEGIN:VEVENT
DTSTART;TZID=Europe/Berlin:20261018T110000
DTEND;TZID=Europe/Berlin:20261018T110000
DTSTAMP:20260419T231028
CREATED:20260109T161940Z
LAST-MODIFIED:20260122T110954Z
UID:8381-1792321200-1792321200@kirche-kellinghusen.de
SUMMARY:20. Sonntag nach Trinitatis
DESCRIPTION:
URL:https://kirche-kellinghusen.de/veranstaltung/20-sonntag-nach-trinitatis/
LOCATION:St. Cyriacus Kirche Kellinghusen\, Lindenstraße 2\, Kellinghusen\, 25548
CATEGORIES:Gottesdienst Kellinghusen
END:VEVENT
BEGIN:VEVENT
DTSTART;TZID=Europe/Berlin:20261019T173000
DTEND;TZID=Europe/Berlin:20261019T173000
DTSTAMP:20260419T231028
CREATED:20260304T095728Z
LAST-MODIFIED:20260304T095728Z
UID:8715-1792431000-1792431000@kirche-kellinghusen.de
SUMMARY:Posaunenchor Hennstedt/Poyenberg mit Jungbläsern
DESCRIPTION:
URL:https://kirche-kellinghusen.de/veranstaltung/posaunenchor-hennstedt-poyenberg-mit-jungblaesern-43/
LOCATION:Gemeindehaus Hennstedt
CATEGORIES:Regelmäßige Angebote
END:VEVENT
BEGIN:VEVENT
DTSTART;TZID=Europe/Berlin:20261020T163000
DTEND;TZID=Europe/Berlin:20261020T163000
DTSTAMP:20260419T231028
CREATED:20260304T095856Z
LAST-MODIFIED:20260304T095858Z
UID:8767-1792513800-1792513800@kirche-kellinghusen.de
SUMMARY:K.I.B.A. Regenbogen (5 Jahre bis 4. Klasse)
DESCRIPTION:
URL:https://kirche-kellinghusen.de/veranstaltung/k-i-b-a-regenbogen-5-jahre-bis-4-klasse-42/
CATEGORIES:Regelmäßige Angebote
END:VEVENT
BEGIN:VEVENT
DTSTART;TZID=Europe/Berlin:20261020T193000
DTEND;TZID=Europe/Berlin:20261020T193000
DTSTAMP:20260419T231028
CREATED:20260304T100042Z
LAST-MODIFIED:20260304T100042Z
UID:8824-1792524600-1792524600@kirche-kellinghusen.de
SUMMARY:Pro Gospel
DESCRIPTION:
URL:https://kirche-kellinghusen.de/veranstaltung/pro-gospel-42/
LOCATION:Gemeindehaus Kellinghusen\, Lindenstraße 2\, Kellinghusen\, 25548
CATEGORIES:Regelmäßige Angebote
END:VEVENT
BEGIN:VEVENT
DTSTART;TZID=Europe/Berlin:20261021T193000
DTEND;TZID=Europe/Berlin:20261021T193000
DTSTAMP:20260419T231028
CREATED:20260304T100238Z
LAST-MODIFIED:20260304T100238Z
UID:8879-1792611000-1792611000@kirche-kellinghusen.de
SUMMARY:Kirchenchor Hennstedt
DESCRIPTION:
URL:https://kirche-kellinghusen.de/veranstaltung/kirchenchor-hennstedt-42/
LOCATION:Gemeindehaus Hennstedt
CATEGORIES:Regelmäßige Angebote
END:VEVENT
BEGIN:VEVENT
DTSTART;TZID=Europe/Berlin:20261022T193000
DTEND;TZID=Europe/Berlin:20261022T193000
DTSTAMP:20260419T231028
CREATED:20260304T101627Z
LAST-MODIFIED:20260304T101627Z
UID:9004-1792697400-1792697400@kirche-kellinghusen.de
SUMMARY:Kantorei
DESCRIPTION:
URL:https://kirche-kellinghusen.de/veranstaltung/kantorei-43/
CATEGORIES:Regelmäßige Angebote
END:VEVENT
END:VCALENDAR