BEGIN:VCALENDAR
VERSION:2.0
PRODID:-//Ev.-Luth. Kirchengemeinde Kellinghusen - ECPv6.15.20//NONSGML v1.0//EN
CALSCALE:GREGORIAN
METHOD:PUBLISH
X-ORIGINAL-URL:https://kirche-kellinghusen.de
X-WR-CALDESC:Veranstaltungen für Ev.-Luth. Kirchengemeinde Kellinghusen
REFRESH-INTERVAL;VALUE=DURATION:PT1H
X-Robots-Tag:noindex
X-PUBLISHED-TTL:PT1H
BEGIN:VTIMEZONE
TZID:Europe/Berlin
BEGIN:DAYLIGHT
TZOFFSETFROM:+0100
TZOFFSETTO:+0200
TZNAME:CEST
DTSTART:20250330T010000
END:DAYLIGHT
BEGIN:STANDARD
TZOFFSETFROM:+0200
TZOFFSETTO:+0100
TZNAME:CET
DTSTART:20251026T010000
END:STANDARD
BEGIN:DAYLIGHT
TZOFFSETFROM:+0100
TZOFFSETTO:+0200
TZNAME:CEST
DTSTART:20260329T010000
END:DAYLIGHT
BEGIN:STANDARD
TZOFFSETFROM:+0200
TZOFFSETTO:+0100
TZNAME:CET
DTSTART:20261025T010000
END:STANDARD
BEGIN:DAYLIGHT
TZOFFSETFROM:+0100
TZOFFSETTO:+0200
TZNAME:CEST
DTSTART:20270328T010000
END:DAYLIGHT
BEGIN:STANDARD
TZOFFSETFROM:+0200
TZOFFSETTO:+0100
TZNAME:CET
DTSTART:20271031T010000
END:STANDARD
END:VTIMEZONE
BEGIN:VEVENT
DTSTART;TZID=Europe/Berlin:20261109T173000
DTEND;TZID=Europe/Berlin:20261109T173000
DTSTAMP:20260419T201123
CREATED:20260304T095735Z
LAST-MODIFIED:20260304T095735Z
UID:8718-1794245400-1794245400@kirche-kellinghusen.de
SUMMARY:Posaunenchor Hennstedt/Poyenberg mit Jungbläsern
DESCRIPTION:
URL:https://kirche-kellinghusen.de/veranstaltung/posaunenchor-hennstedt-poyenberg-mit-jungblaesern-46/
LOCATION:Gemeindehaus Hennstedt
CATEGORIES:Regelmäßige Angebote
END:VEVENT
BEGIN:VEVENT
DTSTART;TZID=Europe/Berlin:20261110T163000
DTEND;TZID=Europe/Berlin:20261110T163000
DTSTAMP:20260419T201123
CREATED:20260304T095857Z
LAST-MODIFIED:20260304T095858Z
UID:8770-1794328200-1794328200@kirche-kellinghusen.de
SUMMARY:K.I.B.A. Regenbogen (5 Jahre bis 4. Klasse)
DESCRIPTION:
URL:https://kirche-kellinghusen.de/veranstaltung/k-i-b-a-regenbogen-5-jahre-bis-4-klasse-45/
CATEGORIES:Regelmäßige Angebote
END:VEVENT
BEGIN:VEVENT
DTSTART;TZID=Europe/Berlin:20261110T193000
DTEND;TZID=Europe/Berlin:20261110T193000
DTSTAMP:20260419T201123
CREATED:20260304T100044Z
LAST-MODIFIED:20260304T100044Z
UID:8827-1794339000-1794339000@kirche-kellinghusen.de
SUMMARY:Pro Gospel
DESCRIPTION:
URL:https://kirche-kellinghusen.de/veranstaltung/pro-gospel-45/
LOCATION:Gemeindehaus Kellinghusen\, Lindenstraße 2\, Kellinghusen\, 25548
CATEGORIES:Regelmäßige Angebote
END:VEVENT
BEGIN:VEVENT
DTSTART;TZID=Europe/Berlin:20261111T153000
DTEND;TZID=Europe/Berlin:20261111T153000
DTSTAMP:20260419T201123
CREATED:20260304T100759Z
LAST-MODIFIED:20260304T100759Z
UID:8934-1794411000-1794411000@kirche-kellinghusen.de
SUMMARY:Eltern- und Kinderchor
DESCRIPTION:
URL:https://kirche-kellinghusen.de/veranstaltung/eltern-und-kinderchor-21/
LOCATION:Gemeindehaus Kellinghusen\, Lindenstraße 2\, Kellinghusen\, 25548
CATEGORIES:Regelmäßige Angebote
END:VEVENT
BEGIN:VEVENT
DTSTART;TZID=Europe/Berlin:20261111T173000
DTEND;TZID=Europe/Berlin:20261111T173000
DTSTAMP:20260419T201123
CREATED:20260304T101158Z
LAST-MODIFIED:20260304T101158Z
UID:8958-1794418200-1794418200@kirche-kellinghusen.de
SUMMARY:Basic – die Jugendgruppe
DESCRIPTION:
URL:https://kirche-kellinghusen.de/veranstaltung/basic-die-jugendgruppe-21/
CATEGORIES:Regelmäßige Angebote
END:VEVENT
BEGIN:VEVENT
DTSTART;TZID=Europe/Berlin:20261111T193000
DTEND;TZID=Europe/Berlin:20261111T193000
DTSTAMP:20260419T201123
CREATED:20260304T100247Z
LAST-MODIFIED:20260304T100247Z
UID:8882-1794425400-1794425400@kirche-kellinghusen.de
SUMMARY:Kirchenchor Hennstedt
DESCRIPTION:
URL:https://kirche-kellinghusen.de/veranstaltung/kirchenchor-hennstedt-45/
LOCATION:Gemeindehaus Hennstedt
CATEGORIES:Regelmäßige Angebote
END:VEVENT
BEGIN:VEVENT
DTSTART;TZID=Europe/Berlin:20261111T193000
DTEND;TZID=Europe/Berlin:20261111T193000
DTSTAMP:20260419T201123
CREATED:20260304T100443Z
LAST-MODIFIED:20260304T100443Z
UID:8910-1794425400-1794425400@kirche-kellinghusen.de
SUMMARY:Sing along
DESCRIPTION:
URL:https://kirche-kellinghusen.de/veranstaltung/sing-along-21/
CATEGORIES:Regelmäßige Angebote
END:VEVENT
BEGIN:VEVENT
DTSTART;TZID=Europe/Berlin:20261112T193000
DTEND;TZID=Europe/Berlin:20261112T193000
DTSTAMP:20260419T201123
CREATED:20260304T101630Z
LAST-MODIFIED:20260304T101630Z
UID:9007-1794511800-1794511800@kirche-kellinghusen.de
SUMMARY:Kantorei
DESCRIPTION:
URL:https://kirche-kellinghusen.de/veranstaltung/kantorei-46/
CATEGORIES:Regelmäßige Angebote
END:VEVENT
BEGIN:VEVENT
DTSTART;TZID=Europe/Berlin:20261115T110000
DTEND;TZID=Europe/Berlin:20261115T110000
DTSTAMP:20260419T201123
CREATED:20260109T161954Z
LAST-MODIFIED:20260122T110957Z
UID:8387-1794740400-1794740400@kirche-kellinghusen.de
SUMMARY:Vorletzter Sonntag des Kirchenjahres
DESCRIPTION:
URL:https://kirche-kellinghusen.de/veranstaltung/vorletzter-sonntag-des-kirchenjahres-2/
LOCATION:Kirche zu Breitenberg\, Kirchenstraße 16-22\, Breitenberg\, 25597
CATEGORIES:Gottesdienst Breitenberg
END:VEVENT
BEGIN:VEVENT
DTSTART;TZID=Europe/Berlin:20261116T173000
DTEND;TZID=Europe/Berlin:20261116T173000
DTSTAMP:20260419T201123
CREATED:20260304T095735Z
LAST-MODIFIED:20260304T095735Z
UID:8719-1794850200-1794850200@kirche-kellinghusen.de
SUMMARY:Posaunenchor Hennstedt/Poyenberg mit Jungbläsern
DESCRIPTION:
URL:https://kirche-kellinghusen.de/veranstaltung/posaunenchor-hennstedt-poyenberg-mit-jungblaesern-47/
LOCATION:Gemeindehaus Hennstedt
CATEGORIES:Regelmäßige Angebote
END:VEVENT
BEGIN:VEVENT
DTSTART;TZID=Europe/Berlin:20261117T163000
DTEND;TZID=Europe/Berlin:20261117T163000
DTSTAMP:20260419T201123
CREATED:20260304T095857Z
LAST-MODIFIED:20260304T095858Z
UID:8771-1794933000-1794933000@kirche-kellinghusen.de
SUMMARY:K.I.B.A. Regenbogen (5 Jahre bis 4. Klasse)
DESCRIPTION:
URL:https://kirche-kellinghusen.de/veranstaltung/k-i-b-a-regenbogen-5-jahre-bis-4-klasse-46/
CATEGORIES:Regelmäßige Angebote
END:VEVENT
BEGIN:VEVENT
DTSTART;TZID=Europe/Berlin:20261117T193000
DTEND;TZID=Europe/Berlin:20261117T193000
DTSTAMP:20260419T201123
CREATED:20260304T100045Z
LAST-MODIFIED:20260304T100045Z
UID:8828-1794943800-1794943800@kirche-kellinghusen.de
SUMMARY:Pro Gospel
DESCRIPTION:
URL:https://kirche-kellinghusen.de/veranstaltung/pro-gospel-46/
LOCATION:Gemeindehaus Kellinghusen\, Lindenstraße 2\, Kellinghusen\, 25548
CATEGORIES:Regelmäßige Angebote
END:VEVENT
BEGIN:VEVENT
DTSTART;TZID=Europe/Berlin:20261118T183000
DTEND;TZID=Europe/Berlin:20261118T183000
DTSTAMP:20260419T201123
CREATED:20260109T161954Z
LAST-MODIFIED:20260122T110957Z
UID:8388-1795026600-1795026600@kirche-kellinghusen.de
SUMMARY:Buß- und Bettag
DESCRIPTION:
URL:https://kirche-kellinghusen.de/veranstaltung/buss-und-bettag/
LOCATION:St. Cyriacus Kirche Kellinghusen\, Lindenstraße 2\, Kellinghusen\, 25548
CATEGORIES:Gottesdienst Kellinghusen
END:VEVENT
BEGIN:VEVENT
DTSTART;TZID=Europe/Berlin:20261118T193000
DTEND;TZID=Europe/Berlin:20261118T193000
DTSTAMP:20260419T201123
CREATED:20260304T100247Z
LAST-MODIFIED:20260304T100247Z
UID:8883-1795030200-1795030200@kirche-kellinghusen.de
SUMMARY:Kirchenchor Hennstedt
DESCRIPTION:
URL:https://kirche-kellinghusen.de/veranstaltung/kirchenchor-hennstedt-46/
LOCATION:Gemeindehaus Hennstedt
CATEGORIES:Regelmäßige Angebote
END:VEVENT
BEGIN:VEVENT
DTSTART;TZID=Europe/Berlin:20261119T193000
DTEND;TZID=Europe/Berlin:20261119T193000
DTSTAMP:20260419T201123
CREATED:20260304T101632Z
LAST-MODIFIED:20260304T101632Z
UID:9008-1795116600-1795116600@kirche-kellinghusen.de
SUMMARY:Kantorei
DESCRIPTION:
URL:https://kirche-kellinghusen.de/veranstaltung/kantorei-47/
CATEGORIES:Regelmäßige Angebote
END:VEVENT
BEGIN:VEVENT
DTSTART;TZID=Europe/Berlin:20261122T093000
DTEND;TZID=Europe/Berlin:20261122T093000
DTSTAMP:20260419T201123
CREATED:20260109T161956Z
LAST-MODIFIED:20260122T111004Z
UID:8390-1795339800-1795339800@kirche-kellinghusen.de
SUMMARY:Ewigkeitssonntag || Totensonntag
DESCRIPTION:
URL:https://kirche-kellinghusen.de/veranstaltung/ewigkeitssonntag-totensonntag-2/
LOCATION:Christuskirche Hennstedt\, Schulstraße 12\, Hennstedt\, 25581
CATEGORIES:Gottesdienst Hennstedt
END:VEVENT
BEGIN:VEVENT
DTSTART;TZID=Europe/Berlin:20261122T110000
DTEND;TZID=Europe/Berlin:20261122T110000
DTSTAMP:20260419T201123
CREATED:20260109T161956Z
LAST-MODIFIED:20260122T111004Z
UID:8389-1795345200-1795345200@kirche-kellinghusen.de
SUMMARY:Ewigkeitssonntag || Totensonntag
DESCRIPTION:
URL:https://kirche-kellinghusen.de/veranstaltung/ewigkeitssonntag-totensonntag/
LOCATION:Kirche zu Breitenberg\, Kirchenstraße 16-22\, Breitenberg\, 25597
CATEGORIES:Gottesdienst Breitenberg
END:VEVENT
BEGIN:VEVENT
DTSTART;TZID=Europe/Berlin:20261123T173000
DTEND;TZID=Europe/Berlin:20261123T173000
DTSTAMP:20260419T201123
CREATED:20260304T095735Z
LAST-MODIFIED:20260304T095735Z
UID:8720-1795455000-1795455000@kirche-kellinghusen.de
SUMMARY:Posaunenchor Hennstedt/Poyenberg mit Jungbläsern
DESCRIPTION:
URL:https://kirche-kellinghusen.de/veranstaltung/posaunenchor-hennstedt-poyenberg-mit-jungblaesern-48/
LOCATION:Gemeindehaus Hennstedt
CATEGORIES:Regelmäßige Angebote
END:VEVENT
BEGIN:VEVENT
DTSTART;TZID=Europe/Berlin:20261124T163000
DTEND;TZID=Europe/Berlin:20261124T163000
DTSTAMP:20260419T201123
CREATED:20260304T095914Z
LAST-MODIFIED:20260304T095914Z
UID:8777-1795537800-1795537800@kirche-kellinghusen.de
SUMMARY:K.I.B.A. Regenbogen (5 Jahre bis 4. Klasse)
DESCRIPTION:
URL:https://kirche-kellinghusen.de/veranstaltung/k-i-b-a-regenbogen-5-jahre-bis-4-klasse-47/
CATEGORIES:Regelmäßige Angebote
END:VEVENT
BEGIN:VEVENT
DTSTART;TZID=Europe/Berlin:20261124T193000
DTEND;TZID=Europe/Berlin:20261124T193000
DTSTAMP:20260419T201123
CREATED:20260304T100045Z
LAST-MODIFIED:20260304T100045Z
UID:8829-1795548600-1795548600@kirche-kellinghusen.de
SUMMARY:Pro Gospel
DESCRIPTION:
URL:https://kirche-kellinghusen.de/veranstaltung/pro-gospel-47/
LOCATION:Gemeindehaus Kellinghusen\, Lindenstraße 2\, Kellinghusen\, 25548
CATEGORIES:Regelmäßige Angebote
END:VEVENT
BEGIN:VEVENT
DTSTART;TZID=Europe/Berlin:20261125T153000
DTEND;TZID=Europe/Berlin:20261125T153000
DTSTAMP:20260419T201123
CREATED:20260304T100800Z
LAST-MODIFIED:20260304T100800Z
UID:8935-1795620600-1795620600@kirche-kellinghusen.de
SUMMARY:Eltern- und Kinderchor
DESCRIPTION:
URL:https://kirche-kellinghusen.de/veranstaltung/eltern-und-kinderchor-22/
LOCATION:Gemeindehaus Kellinghusen\, Lindenstraße 2\, Kellinghusen\, 25548
CATEGORIES:Regelmäßige Angebote
END:VEVENT
BEGIN:VEVENT
DTSTART;TZID=Europe/Berlin:20261125T173000
DTEND;TZID=Europe/Berlin:20261125T173000
DTSTAMP:20260419T201123
CREATED:20260304T101158Z
LAST-MODIFIED:20260304T101158Z
UID:8959-1795627800-1795627800@kirche-kellinghusen.de
SUMMARY:Basic – die Jugendgruppe
DESCRIPTION:
URL:https://kirche-kellinghusen.de/veranstaltung/basic-die-jugendgruppe-22/
CATEGORIES:Regelmäßige Angebote
END:VEVENT
BEGIN:VEVENT
DTSTART;TZID=Europe/Berlin:20261125T193000
DTEND;TZID=Europe/Berlin:20261125T193000
DTSTAMP:20260419T201123
CREATED:20260304T100248Z
LAST-MODIFIED:20260304T100248Z
UID:8884-1795635000-1795635000@kirche-kellinghusen.de
SUMMARY:Kirchenchor Hennstedt
DESCRIPTION:
URL:https://kirche-kellinghusen.de/veranstaltung/kirchenchor-hennstedt-47/
LOCATION:Gemeindehaus Hennstedt
CATEGORIES:Regelmäßige Angebote
END:VEVENT
BEGIN:VEVENT
DTSTART;TZID=Europe/Berlin:20261125T193000
DTEND;TZID=Europe/Berlin:20261125T193000
DTSTAMP:20260419T201123
CREATED:20260304T100444Z
LAST-MODIFIED:20260304T100444Z
UID:8911-1795635000-1795635000@kirche-kellinghusen.de
SUMMARY:Sing along
DESCRIPTION:
URL:https://kirche-kellinghusen.de/veranstaltung/sing-along-22/
CATEGORIES:Regelmäßige Angebote
END:VEVENT
BEGIN:VEVENT
DTSTART;TZID=Europe/Berlin:20261126T193000
DTEND;TZID=Europe/Berlin:20261126T193000
DTSTAMP:20260419T201123
CREATED:20260304T101632Z
LAST-MODIFIED:20260304T101632Z
UID:9009-1795721400-1795721400@kirche-kellinghusen.de
SUMMARY:Kantorei
DESCRIPTION:
URL:https://kirche-kellinghusen.de/veranstaltung/kantorei-48/
CATEGORIES:Regelmäßige Angebote
END:VEVENT
BEGIN:VEVENT
DTSTART;TZID=Europe/Berlin:20261127T183000
DTEND;TZID=Europe/Berlin:20261127T183000
DTSTAMP:20260419T201123
CREATED:20260109T161956Z
LAST-MODIFIED:20260122T111004Z
UID:8392-1795804200-1795804200@kirche-kellinghusen.de
SUMMARY:Adventsandacht
DESCRIPTION:
URL:https://kirche-kellinghusen.de/veranstaltung/adventsandacht-4/
LOCATION:St. Cyriacus Kirche Kellinghusen\, Lindenstraße 2\, Kellinghusen\, 25548
CATEGORIES:Gottesdienst Kellinghusen
END:VEVENT
BEGIN:VEVENT
DTSTART;TZID=Europe/Berlin:20261130T173000
DTEND;TZID=Europe/Berlin:20261130T173000
DTSTAMP:20260419T201123
CREATED:20260304T095737Z
LAST-MODIFIED:20260304T095737Z
UID:8721-1796059800-1796059800@kirche-kellinghusen.de
SUMMARY:Posaunenchor Hennstedt/Poyenberg mit Jungbläsern
DESCRIPTION:
URL:https://kirche-kellinghusen.de/veranstaltung/posaunenchor-hennstedt-poyenberg-mit-jungblaesern-49/
LOCATION:Gemeindehaus Hennstedt
CATEGORIES:Regelmäßige Angebote
END:VEVENT
BEGIN:VEVENT
DTSTART;TZID=Europe/Berlin:20261201T163000
DTEND;TZID=Europe/Berlin:20261201T163000
DTSTAMP:20260419T201123
CREATED:20260304T095914Z
LAST-MODIFIED:20260304T095914Z
UID:8778-1796142600-1796142600@kirche-kellinghusen.de
SUMMARY:K.I.B.A. Regenbogen (5 Jahre bis 4. Klasse)
DESCRIPTION:
URL:https://kirche-kellinghusen.de/veranstaltung/k-i-b-a-regenbogen-5-jahre-bis-4-klasse-48/
CATEGORIES:Regelmäßige Angebote
END:VEVENT
BEGIN:VEVENT
DTSTART;TZID=Europe/Berlin:20261201T193000
DTEND;TZID=Europe/Berlin:20261201T193000
DTSTAMP:20260419T201123
CREATED:20260304T100045Z
LAST-MODIFIED:20260304T100045Z
UID:8830-1796153400-1796153400@kirche-kellinghusen.de
SUMMARY:Pro Gospel
DESCRIPTION:
URL:https://kirche-kellinghusen.de/veranstaltung/pro-gospel-48/
LOCATION:Gemeindehaus Kellinghusen\, Lindenstraße 2\, Kellinghusen\, 25548
CATEGORIES:Regelmäßige Angebote
END:VEVENT
BEGIN:VEVENT
DTSTART;TZID=Europe/Berlin:20261202T193000
DTEND;TZID=Europe/Berlin:20261202T193000
DTSTAMP:20260419T201123
CREATED:20260304T100248Z
LAST-MODIFIED:20260304T100248Z
UID:8885-1796239800-1796239800@kirche-kellinghusen.de
SUMMARY:Kirchenchor Hennstedt
DESCRIPTION:
URL:https://kirche-kellinghusen.de/veranstaltung/kirchenchor-hennstedt-48/
LOCATION:Gemeindehaus Hennstedt
CATEGORIES:Regelmäßige Angebote
END:VEVENT
END:VCALENDAR