BEGIN:VCALENDAR
VERSION:2.0
PRODID:-//Ev.-Luth. Kirchengemeinde Kellinghusen - ECPv6.15.20//NONSGML v1.0//EN
CALSCALE:GREGORIAN
METHOD:PUBLISH
X-WR-CALNAME:Ev.-Luth. Kirchengemeinde Kellinghusen
X-ORIGINAL-URL:https://kirche-kellinghusen.de
X-WR-CALDESC:Veranstaltungen für Ev.-Luth. Kirchengemeinde Kellinghusen
REFRESH-INTERVAL;VALUE=DURATION:PT1H
X-Robots-Tag:noindex
X-PUBLISHED-TTL:PT1H
BEGIN:VTIMEZONE
TZID:Europe/Berlin
BEGIN:DAYLIGHT
TZOFFSETFROM:+0100
TZOFFSETTO:+0200
TZNAME:CEST
DTSTART:20250330T010000
END:DAYLIGHT
BEGIN:STANDARD
TZOFFSETFROM:+0200
TZOFFSETTO:+0100
TZNAME:CET
DTSTART:20251026T010000
END:STANDARD
BEGIN:DAYLIGHT
TZOFFSETFROM:+0100
TZOFFSETTO:+0200
TZNAME:CEST
DTSTART:20260329T010000
END:DAYLIGHT
BEGIN:STANDARD
TZOFFSETFROM:+0200
TZOFFSETTO:+0100
TZNAME:CET
DTSTART:20261025T010000
END:STANDARD
BEGIN:DAYLIGHT
TZOFFSETFROM:+0100
TZOFFSETTO:+0200
TZNAME:CEST
DTSTART:20270328T010000
END:DAYLIGHT
BEGIN:STANDARD
TZOFFSETFROM:+0200
TZOFFSETTO:+0100
TZNAME:CET
DTSTART:20271031T010000
END:STANDARD
END:VTIMEZONE
BEGIN:VEVENT
DTSTART;TZID=Europe/Berlin:20260610T193000
DTEND;TZID=Europe/Berlin:20260610T193000
DTSTAMP:20260419T140754
CREATED:20260304T100138Z
LAST-MODIFIED:20260304T100138Z
UID:8860-1781119800-1781119800@kirche-kellinghusen.de
SUMMARY:Kirchenchor Hennstedt
DESCRIPTION:
URL:https://kirche-kellinghusen.de/veranstaltung/kirchenchor-hennstedt-23/
LOCATION:Gemeindehaus Hennstedt
CATEGORIES:Regelmäßige Angebote
END:VEVENT
BEGIN:VEVENT
DTSTART;TZID=Europe/Berlin:20260610T193000
DTEND;TZID=Europe/Berlin:20260610T193000
DTSTAMP:20260419T140754
CREATED:20260304T100424Z
LAST-MODIFIED:20260304T100424Z
UID:8900-1781119800-1781119800@kirche-kellinghusen.de
SUMMARY:Sing along
DESCRIPTION:
URL:https://kirche-kellinghusen.de/veranstaltung/sing-along-11/
CATEGORIES:Regelmäßige Angebote
END:VEVENT
BEGIN:VEVENT
DTSTART;TZID=Europe/Berlin:20260611T193000
DTEND;TZID=Europe/Berlin:20260611T193000
DTSTAMP:20260419T140754
CREATED:20260304T101546Z
LAST-MODIFIED:20260304T101546Z
UID:8985-1781206200-1781206200@kirche-kellinghusen.de
SUMMARY:Kantorei
DESCRIPTION:
URL:https://kirche-kellinghusen.de/veranstaltung/kantorei-24/
CATEGORIES:Regelmäßige Angebote
END:VEVENT
BEGIN:VEVENT
DTSTART;TZID=Europe/Berlin:20260614T093000
DTEND;TZID=Europe/Berlin:20260614T093000
DTSTAMP:20260419T140754
CREATED:20260109T161852Z
LAST-MODIFIED:20260122T110926Z
UID:8351-1781429400-1781429400@kirche-kellinghusen.de
SUMMARY:2. Sonntag nach Trinitatis
DESCRIPTION:
URL:https://kirche-kellinghusen.de/veranstaltung/2-sonntag-nach-trinitatis-2/
LOCATION:Christuskirche Hennstedt\, Schulstraße 12\, Hennstedt\, 25581
CATEGORIES:Gottesdienst Hennstedt
END:VEVENT
BEGIN:VEVENT
DTSTART;TZID=Europe/Berlin:20260614T103000
DTEND;TZID=Europe/Berlin:20260614T103000
DTSTAMP:20260419T140754
CREATED:20260109T161852Z
LAST-MODIFIED:20260122T110926Z
UID:8350-1781433000-1781433000@kirche-kellinghusen.de
SUMMARY:2. Sonntag nach Trinitatis
DESCRIPTION:
URL:https://kirche-kellinghusen.de/veranstaltung/2-sonntag-nach-trinitatis/
LOCATION:St. Cyriacus Kirche Kellinghusen\, Lindenstraße 2\, Kellinghusen\, 25548
CATEGORIES:Gottesdienst Kellinghusen
END:VEVENT
BEGIN:VEVENT
DTSTART;TZID=Europe/Berlin:20260614T110000
DTEND;TZID=Europe/Berlin:20260614T110000
DTSTAMP:20260419T140754
CREATED:20260109T161852Z
LAST-MODIFIED:20260122T110926Z
UID:8352-1781434800-1781434800@kirche-kellinghusen.de
SUMMARY:2. Sonntag nach Trinitatis
DESCRIPTION:
URL:https://kirche-kellinghusen.de/veranstaltung/2-sonntag-nach-trinitatis-3/
LOCATION:Kirche zu Breitenberg\, Kirchenstraße 16-22\, Breitenberg\, 25597
CATEGORIES:Gottesdienst Breitenberg
END:VEVENT
BEGIN:VEVENT
DTSTART;TZID=Europe/Berlin:20260615T173000
DTEND;TZID=Europe/Berlin:20260615T173000
DTSTAMP:20260419T140754
CREATED:20260304T095704Z
LAST-MODIFIED:20260304T095704Z
UID:8697-1781544600-1781544600@kirche-kellinghusen.de
SUMMARY:Posaunenchor Hennstedt/Poyenberg mit Jungbläsern
DESCRIPTION:
URL:https://kirche-kellinghusen.de/veranstaltung/posaunenchor-hennstedt-poyenberg-mit-jungblaesern-25/
LOCATION:Gemeindehaus Hennstedt
CATEGORIES:Regelmäßige Angebote
END:VEVENT
BEGIN:VEVENT
DTSTART;TZID=Europe/Berlin:20260616T163000
DTEND;TZID=Europe/Berlin:20260616T163000
DTSTAMP:20260419T140754
CREATED:20260304T095813Z
LAST-MODIFIED:20260304T095813Z
UID:8749-1781627400-1781627400@kirche-kellinghusen.de
SUMMARY:K.I.B.A. Regenbogen (5 Jahre bis 4. Klasse)
DESCRIPTION:
URL:https://kirche-kellinghusen.de/veranstaltung/k-i-b-a-regenbogen-5-jahre-bis-4-klasse-24/
CATEGORIES:Regelmäßige Angebote
END:VEVENT
BEGIN:VEVENT
DTSTART;TZID=Europe/Berlin:20260616T193000
DTEND;TZID=Europe/Berlin:20260616T193000
DTSTAMP:20260419T140754
CREATED:20260304T095950Z
LAST-MODIFIED:20260304T095950Z
UID:8806-1781638200-1781638200@kirche-kellinghusen.de
SUMMARY:Pro Gospel
DESCRIPTION:
URL:https://kirche-kellinghusen.de/veranstaltung/pro-gospel-24/
LOCATION:Gemeindehaus Kellinghusen\, Lindenstraße 2\, Kellinghusen\, 25548
CATEGORIES:Regelmäßige Angebote
END:VEVENT
BEGIN:VEVENT
DTSTART;TZID=Europe/Berlin:20260617T193000
DTEND;TZID=Europe/Berlin:20260617T193000
DTSTAMP:20260419T140754
CREATED:20260304T100139Z
LAST-MODIFIED:20260304T100139Z
UID:8861-1781724600-1781724600@kirche-kellinghusen.de
SUMMARY:Kirchenchor Hennstedt
DESCRIPTION:
URL:https://kirche-kellinghusen.de/veranstaltung/kirchenchor-hennstedt-24/
LOCATION:Gemeindehaus Hennstedt
CATEGORIES:Regelmäßige Angebote
END:VEVENT
BEGIN:VEVENT
DTSTART;TZID=Europe/Berlin:20260618T193000
DTEND;TZID=Europe/Berlin:20260618T193000
DTSTAMP:20260419T140754
CREATED:20260304T101547Z
LAST-MODIFIED:20260304T101547Z
UID:8986-1781811000-1781811000@kirche-kellinghusen.de
SUMMARY:Kantorei
DESCRIPTION:
URL:https://kirche-kellinghusen.de/veranstaltung/kantorei-25/
CATEGORIES:Regelmäßige Angebote
END:VEVENT
BEGIN:VEVENT
DTSTART;TZID=Europe/Berlin:20260621T110000
DTEND;TZID=Europe/Berlin:20260621T110000
DTSTAMP:20260419T140754
CREATED:20260109T161852Z
LAST-MODIFIED:20260122T110926Z
UID:8353-1782039600-1782039600@kirche-kellinghusen.de
SUMMARY:3. Sonntag nach Trinitatis
DESCRIPTION:
URL:https://kirche-kellinghusen.de/veranstaltung/3-sonntag-nach-trinitatis/
LOCATION:St. Cyriacus Kirche Kellinghusen\, Lindenstraße 2\, Kellinghusen\, 25548
CATEGORIES:Gottesdienst Kellinghusen
END:VEVENT
BEGIN:VEVENT
DTSTART;TZID=Europe/Berlin:20260622T173000
DTEND;TZID=Europe/Berlin:20260622T173000
DTSTAMP:20260419T140754
CREATED:20260304T095704Z
LAST-MODIFIED:20260304T095704Z
UID:8698-1782149400-1782149400@kirche-kellinghusen.de
SUMMARY:Posaunenchor Hennstedt/Poyenberg mit Jungbläsern
DESCRIPTION:
URL:https://kirche-kellinghusen.de/veranstaltung/posaunenchor-hennstedt-poyenberg-mit-jungblaesern-26/
LOCATION:Gemeindehaus Hennstedt
CATEGORIES:Regelmäßige Angebote
END:VEVENT
BEGIN:VEVENT
DTSTART;TZID=Europe/Berlin:20260623T163000
DTEND;TZID=Europe/Berlin:20260623T163000
DTSTAMP:20260419T140754
CREATED:20260304T095813Z
LAST-MODIFIED:20260304T095813Z
UID:8750-1782232200-1782232200@kirche-kellinghusen.de
SUMMARY:K.I.B.A. Regenbogen (5 Jahre bis 4. Klasse)
DESCRIPTION:
URL:https://kirche-kellinghusen.de/veranstaltung/k-i-b-a-regenbogen-5-jahre-bis-4-klasse-25/
CATEGORIES:Regelmäßige Angebote
END:VEVENT
BEGIN:VEVENT
DTSTART;TZID=Europe/Berlin:20260623T193000
DTEND;TZID=Europe/Berlin:20260623T193000
DTSTAMP:20260419T140754
CREATED:20260304T095956Z
LAST-MODIFIED:20260304T095956Z
UID:8807-1782243000-1782243000@kirche-kellinghusen.de
SUMMARY:Pro Gospel
DESCRIPTION:
URL:https://kirche-kellinghusen.de/veranstaltung/pro-gospel-25/
LOCATION:Gemeindehaus Kellinghusen\, Lindenstraße 2\, Kellinghusen\, 25548
CATEGORIES:Regelmäßige Angebote
END:VEVENT
BEGIN:VEVENT
DTSTART;TZID=Europe/Berlin:20260624T153000
DTEND;TZID=Europe/Berlin:20260624T153000
DTSTAMP:20260419T140754
CREATED:20260304T100618Z
LAST-MODIFIED:20260304T100618Z
UID:8925-1782315000-1782315000@kirche-kellinghusen.de
SUMMARY:Eltern- und Kinderchor
DESCRIPTION:
URL:https://kirche-kellinghusen.de/veranstaltung/eltern-und-kinderchor-12/
LOCATION:Gemeindehaus Kellinghusen\, Lindenstraße 2\, Kellinghusen\, 25548
CATEGORIES:Regelmäßige Angebote
END:VEVENT
BEGIN:VEVENT
DTSTART;TZID=Europe/Berlin:20260624T173000
DTEND;TZID=Europe/Berlin:20260624T173000
DTSTAMP:20260419T140754
CREATED:20260304T101016Z
LAST-MODIFIED:20260304T101016Z
UID:8949-1782322200-1782322200@kirche-kellinghusen.de
SUMMARY:Basic – die Jugendgruppe
DESCRIPTION:
URL:https://kirche-kellinghusen.de/veranstaltung/basic-die-jugendgruppe-12/
CATEGORIES:Regelmäßige Angebote
END:VEVENT
BEGIN:VEVENT
DTSTART;TZID=Europe/Berlin:20260624T193000
DTEND;TZID=Europe/Berlin:20260624T193000
DTSTAMP:20260419T140754
CREATED:20260304T100207Z
LAST-MODIFIED:20260304T100207Z
UID:8862-1782329400-1782329400@kirche-kellinghusen.de
SUMMARY:Kirchenchor Hennstedt
DESCRIPTION:
URL:https://kirche-kellinghusen.de/veranstaltung/kirchenchor-hennstedt-25/
LOCATION:Gemeindehaus Hennstedt
CATEGORIES:Regelmäßige Angebote
END:VEVENT
BEGIN:VEVENT
DTSTART;TZID=Europe/Berlin:20260624T193000
DTEND;TZID=Europe/Berlin:20260624T193000
DTSTAMP:20260419T140754
CREATED:20260304T100424Z
LAST-MODIFIED:20260304T100424Z
UID:8901-1782329400-1782329400@kirche-kellinghusen.de
SUMMARY:Sing along
DESCRIPTION:
URL:https://kirche-kellinghusen.de/veranstaltung/sing-along-12/
CATEGORIES:Regelmäßige Angebote
END:VEVENT
BEGIN:VEVENT
DTSTART;TZID=Europe/Berlin:20260625T193000
DTEND;TZID=Europe/Berlin:20260625T193000
DTSTAMP:20260419T140754
CREATED:20260304T101547Z
LAST-MODIFIED:20260304T101547Z
UID:8987-1782415800-1782415800@kirche-kellinghusen.de
SUMMARY:Kantorei
DESCRIPTION:
URL:https://kirche-kellinghusen.de/veranstaltung/kantorei-26/
CATEGORIES:Regelmäßige Angebote
END:VEVENT
BEGIN:VEVENT
DTSTART;TZID=Europe/Berlin:20260628T093000
DTEND;TZID=Europe/Berlin:20260628T093000
DTSTAMP:20260419T140754
CREATED:20260109T161905Z
LAST-MODIFIED:20260122T110935Z
UID:8354-1782639000-1782639000@kirche-kellinghusen.de
SUMMARY:4. Sonntag nach Trinitatis
DESCRIPTION:
URL:https://kirche-kellinghusen.de/veranstaltung/4-sonntag-nach-trinitatis/
LOCATION:Christuskirche Hennstedt\, Schulstraße 12\, Hennstedt\, 25581
CATEGORIES:Gottesdienst Hennstedt
END:VEVENT
BEGIN:VEVENT
DTSTART;TZID=Europe/Berlin:20260628T110000
DTEND;TZID=Europe/Berlin:20260628T110000
DTSTAMP:20260419T140754
CREATED:20260109T161905Z
LAST-MODIFIED:20260122T110935Z
UID:8355-1782644400-1782644400@kirche-kellinghusen.de
SUMMARY:4. Sonntag nach Trinitatis
DESCRIPTION:
URL:https://kirche-kellinghusen.de/veranstaltung/4-sonntag-nach-trinitatis-2/
LOCATION:Kirche zu Breitenberg\, Kirchenstraße 16-22\, Breitenberg\, 25597
CATEGORIES:Gottesdienst Breitenberg
END:VEVENT
BEGIN:VEVENT
DTSTART;TZID=Europe/Berlin:20260629T173000
DTEND;TZID=Europe/Berlin:20260629T173000
DTSTAMP:20260419T140754
CREATED:20260304T095704Z
LAST-MODIFIED:20260304T095704Z
UID:8699-1782754200-1782754200@kirche-kellinghusen.de
SUMMARY:Posaunenchor Hennstedt/Poyenberg mit Jungbläsern
DESCRIPTION:
URL:https://kirche-kellinghusen.de/veranstaltung/posaunenchor-hennstedt-poyenberg-mit-jungblaesern-27/
LOCATION:Gemeindehaus Hennstedt
CATEGORIES:Regelmäßige Angebote
END:VEVENT
BEGIN:VEVENT
DTSTART;TZID=Europe/Berlin:20260630T163000
DTEND;TZID=Europe/Berlin:20260630T163000
DTSTAMP:20260419T140754
CREATED:20260304T095814Z
LAST-MODIFIED:20260304T095814Z
UID:8751-1782837000-1782837000@kirche-kellinghusen.de
SUMMARY:K.I.B.A. Regenbogen (5 Jahre bis 4. Klasse)
DESCRIPTION:
URL:https://kirche-kellinghusen.de/veranstaltung/k-i-b-a-regenbogen-5-jahre-bis-4-klasse-26/
CATEGORIES:Regelmäßige Angebote
END:VEVENT
BEGIN:VEVENT
DTSTART;TZID=Europe/Berlin:20260630T193000
DTEND;TZID=Europe/Berlin:20260630T193000
DTSTAMP:20260419T140754
CREATED:20260304T095957Z
LAST-MODIFIED:20260304T095957Z
UID:8808-1782847800-1782847800@kirche-kellinghusen.de
SUMMARY:Pro Gospel
DESCRIPTION:
URL:https://kirche-kellinghusen.de/veranstaltung/pro-gospel-26/
LOCATION:Gemeindehaus Kellinghusen\, Lindenstraße 2\, Kellinghusen\, 25548
CATEGORIES:Regelmäßige Angebote
END:VEVENT
BEGIN:VEVENT
DTSTART;TZID=Europe/Berlin:20260701T193000
DTEND;TZID=Europe/Berlin:20260701T193000
DTSTAMP:20260419T140754
CREATED:20260304T100208Z
LAST-MODIFIED:20260304T100208Z
UID:8863-1782934200-1782934200@kirche-kellinghusen.de
SUMMARY:Kirchenchor Hennstedt
DESCRIPTION:
URL:https://kirche-kellinghusen.de/veranstaltung/kirchenchor-hennstedt-26/
LOCATION:Gemeindehaus Hennstedt
CATEGORIES:Regelmäßige Angebote
END:VEVENT
BEGIN:VEVENT
DTSTART;TZID=Europe/Berlin:20260702T193000
DTEND;TZID=Europe/Berlin:20260702T193000
DTSTAMP:20260419T140754
CREATED:20260304T101548Z
LAST-MODIFIED:20260304T101548Z
UID:8988-1783020600-1783020600@kirche-kellinghusen.de
SUMMARY:Kantorei
DESCRIPTION:
URL:https://kirche-kellinghusen.de/veranstaltung/kantorei-27/
CATEGORIES:Regelmäßige Angebote
END:VEVENT
BEGIN:VEVENT
DTSTART;TZID=Europe/Berlin:20260703T183000
DTEND;TZID=Europe/Berlin:20260703T183000
DTSTAMP:20260419T140754
CREATED:20260304T101723Z
LAST-MODIFIED:20260304T101723Z
UID:9024-1783103400-1783103400@kirche-kellinghusen.de
SUMMARY:Jugendgruppe K.A.Te.Bi
DESCRIPTION:
URL:https://kirche-kellinghusen.de/veranstaltung/jugendgruppe-k-a-te-bi-7/
CATEGORIES:Regelmäßige Angebote
END:VEVENT
BEGIN:VEVENT
DTSTART;TZID=Europe/Berlin:20260705T110000
DTEND;TZID=Europe/Berlin:20260705T110000
DTSTAMP:20260419T140754
CREATED:20260109T161905Z
LAST-MODIFIED:20260122T110935Z
UID:8356-1783249200-1783249200@kirche-kellinghusen.de
SUMMARY:5. Sonntag nach Trinitatis
DESCRIPTION:
URL:https://kirche-kellinghusen.de/veranstaltung/5-sonntag-nach-trinitatis/
LOCATION:St. Cyriacus Kirche Kellinghusen\, Lindenstraße 2\, Kellinghusen\, 25548
CATEGORIES:Gottesdienst Kellinghusen
END:VEVENT
BEGIN:VEVENT
DTSTART;TZID=Europe/Berlin:20260706T150000
DTEND;TZID=Europe/Berlin:20260706T150000
DTSTAMP:20260419T140754
CREATED:20260304T095451Z
LAST-MODIFIED:20260304T095451Z
UID:8663-1783350000-1783350000@kirche-kellinghusen.de
SUMMARY:Begegnungsnachmittag
DESCRIPTION:
URL:https://kirche-kellinghusen.de/veranstaltung/begegnungsnachmittag-7/
CATEGORIES:Regelmäßige Angebote
END:VEVENT
END:VCALENDAR